##############################################################################
##############################################################################
###
### Running command:
###
### cd fastseg.buildbin-libdir/fastseg && zip -r ../../fastseg_1.14.0.zip . & cd ../..
###
##############################################################################
##############################################################################
adding: CITATION (188 bytes security) (deflated 58%)
adding: data/ (256 bytes security) (stored 0%)
adding: data/coriell.rda (188 bytes security) (deflated 8%)
adding: data/fastsegData.rda (188 bytes security) (deflated 0%)
adding: DESCRIPTION (188 bytes security) (deflated 47%)
adding: doc/ (256 bytes security) (stored 0%)
adding: doc/fastseg.pdf (188 bytes security) (deflated 17%)
adding: doc/fastseg.R (188 bytes security) (deflated 79%)
adding: doc/fastseg.Rnw (188 bytes security) (deflated 60%)
adding: doc/index.html (188 bytes security) (deflated 58%)
adding: help/ (256 bytes security) (stored 0%)
adding: help/aliases.rds (188 bytes security) (stored 0%)
adding: help/AnIndex (188 bytes security) (deflated 40%)
adding: help/fastseg.rdb (188 bytes security) (deflated 1%)
adding: help/fastseg.rdx (188 bytes security) (stored 0%)
adding: help/paths.rds (188 bytes security) (stored 0%)
adding: html/ (256 bytes security) (stored 0%)
adding: html/00Index.html (188 bytes security) (deflated 57%)
adding: html/R.css (188 bytes security) (deflated 75%)
adding: INDEX (188 bytes security) (deflated 56%)
adding: libs/ (256 bytes security) (stored 0%)
adding: libs/i386/ (256 bytes security) (stored 0%)
adding: libs/i386/fastseg.dll (188 bytes security) (deflated 65%)
adding: libs/x64/ (256 bytes security) (stored 0%)
adding: libs/x64/fastseg.dll (188 bytes security) (deflated 69%)
adding: MD5 (188 bytes security) (deflated 43%)
adding: Meta/ (256 bytes security) (stored 0%)
adding: Meta/data.rds (188 bytes security) (stored 0%)
adding: Meta/hsearch.rds (188 bytes security) (stored 0%)
adding: Meta/links.rds (188 bytes security) (stored 0%)
adding: Meta/nsInfo.rds (188 bytes security) (stored 0%)
adding: Meta/package.rds (188 bytes security) (stored 0%)
adding: Meta/Rd.rds (188 bytes security) (stored 0%)
adding: Meta/vignette.rds (188 bytes security) (stored 0%)
adding: NAMESPACE (188 bytes security) (deflated 31%)
adding: R/ (256 bytes security) (stored 0%)
adding: R/fastseg (188 bytes security) (deflated 41%)
adding: R/fastseg.rdb (188 bytes security) (deflated 2%)
adding: R/fastseg.rdx (188 bytes security) (stored 0%)