##############################################################################
##############################################################################
###
### Running command:
###
### cd ensembldb.buildbin-libdir/ensembldb && zip -r ../../ensembldb_1.0.1.zip . & cd ../..
###
##############################################################################
##############################################################################
adding: chrY/ (256 bytes security) (stored 0%)
adding: chrY/ens_chromosome.txt (188 bytes security) (stored 0%)
adding: chrY/ens_exon.txt (188 bytes security) (deflated 67%)
adding: chrY/ens_gene.txt (188 bytes security) (deflated 72%)
adding: chrY/ens_metadata.txt (188 bytes security) (deflated 27%)
adding: chrY/ens_tx.txt (188 bytes security) (deflated 77%)
adding: chrY/ens_tx2exon.txt (188 bytes security) (deflated 81%)
adding: DESCRIPTION (188 bytes security) (deflated 47%)
adding: doc/ (256 bytes security) (stored 0%)
adding: doc/ensembldb.pdf (188 bytes security) (deflated 16%)
adding: doc/ensembldb.Rnw (188 bytes security) (deflated 70%)
adding: doc/index.html (188 bytes security) (deflated 57%)
adding: help/ (256 bytes security) (stored 0%)
adding: help/aliases.rds (188 bytes security) (stored 0%)
adding: help/AnIndex (188 bytes security) (deflated 90%)
adding: help/ensembldb.rdb (188 bytes security) (deflated 1%)
adding: help/ensembldb.rdx (188 bytes security) (stored 0%)
adding: help/paths.rds (188 bytes security) (stored 0%)
adding: html/ (256 bytes security) (stored 0%)
adding: html/00Index.html (188 bytes security) (deflated 90%)
adding: html/R.css (188 bytes security) (deflated 75%)
adding: INDEX (188 bytes security) (deflated 58%)
adding: MD5 (188 bytes security) (deflated 44%)
adding: Meta/ (256 bytes security) (stored 0%)
adding: Meta/hsearch.rds (188 bytes security) (stored 0%)
adding: Meta/links.rds (188 bytes security) (stored 0%)
adding: Meta/nsInfo.rds (188 bytes security) (stored 0%)
adding: Meta/package.rds (188 bytes security) (stored 0%)
adding: Meta/Rd.rds (188 bytes security) (stored 0%)
adding: Meta/vignette.rds (188 bytes security) (stored 0%)
adding: NAMESPACE (188 bytes security) (deflated 58%)
adding: NEWS (188 bytes security) (deflated 64%)
adding: perl/ (256 bytes security) (stored 0%)
adding: perl/get_gene_transcript_exon_tables.pl (188 bytes security) (deflated 67%)
adding: pkg-template/ (256 bytes security) (stored 0%)
adding: pkg-template/DESCRIPTION (188 bytes security) (deflated 33%)
adding: pkg-template/man/ (256 bytes security) (stored 0%)
adding: pkg-template/man/package.Rd (188 bytes security) (deflated 44%)
adding: pkg-template/NAMESPACE (188 bytes security) (deflated 24%)
adding: pkg-template/R/ (256 bytes security) (stored 0%)
adding: pkg-template/R/zzz.R (188 bytes security) (deflated 45%)
adding: R/ (256 bytes security) (stored 0%)
adding: R/ensembldb (188 bytes security) (deflated 41%)
adding: R/ensembldb.rdb (188 bytes security) (deflated 28%)
adding: R/ensembldb.rdx (188 bytes security) (deflated 0%)
adding: test/ (256 bytes security) (stored 0%)
adding: test/testFunctionality.R (188 bytes security) (deflated 79%)
adding: test/testInternals.R (188 bytes security) (deflated 79%)
adding: unitTests/ (256 bytes security) (stored 0%)
adding: unitTests/test_Filters.R (188 bytes security) (deflated 82%)
adding: unitTests/test_Functionality.R (188 bytes security) (deflated 59%)
adding: YGRanges.RData (188 bytes security) (deflated 0%)