##############################################################################
##############################################################################
###
### Running command:
###
### cd copynumber.buildbin-libdir/copynumber && zip -r ../../copynumber_1.8.0.zip . & cd ../..
###
##############################################################################
##############################################################################
adding: CITATION (188 bytes security) (deflated 69%)
adding: data/ (256 bytes security) (stored 0%)
adding: data/Rdata.rdb (188 bytes security) (deflated 3%)
adding: data/Rdata.rds (188 bytes security) (stored 0%)
adding: data/Rdata.rdx (188 bytes security) (stored 0%)
adding: DESCRIPTION (188 bytes security) (deflated 46%)
adding: doc/ (256 bytes security) (stored 0%)
adding: doc/copynumber.pdf (188 bytes security) (deflated 6%)
adding: doc/copynumber.R (188 bytes security) (deflated 87%)
adding: doc/copynumber.rnw (188 bytes security) (deflated 68%)
adding: doc/index.html (188 bytes security) (deflated 59%)
adding: help/ (256 bytes security) (stored 0%)
adding: help/aliases.rds (188 bytes security) (stored 0%)
adding: help/AnIndex (188 bytes security) (deflated 58%)
adding: help/copynumber.rdb (188 bytes security) (deflated 1%)
adding: help/copynumber.rdx (188 bytes security) (stored 0%)
adding: help/paths.rds (188 bytes security) (stored 0%)
adding: html/ (256 bytes security) (stored 0%)
adding: html/00Index.html (188 bytes security) (deflated 72%)
adding: html/R.css (188 bytes security) (deflated 75%)
adding: INDEX (188 bytes security) (deflated 68%)
adding: MD5 (188 bytes security) (deflated 44%)
adding: Meta/ (256 bytes security) (stored 0%)
adding: Meta/data.rds (188 bytes security) (stored 0%)
adding: Meta/hsearch.rds (188 bytes security) (stored 0%)
adding: Meta/links.rds (188 bytes security) (stored 0%)
adding: Meta/nsInfo.rds (188 bytes security) (stored 0%)
adding: Meta/package.rds (188 bytes security) (stored 0%)
adding: Meta/Rd.rds (188 bytes security) (stored 0%)
adding: Meta/vignette.rds (188 bytes security) (stored 0%)
adding: NAMESPACE (188 bytes security) (deflated 51%)
adding: NEWS (188 bytes security) (deflated 40%)
adding: R/ (256 bytes security) (stored 0%)
adding: R/copynumber (188 bytes security) (deflated 41%)
adding: R/copynumber.rdb (188 bytes security) (deflated 1%)
adding: R/copynumber.rdx (188 bytes security) (stored 0%)
adding: R/sysdata.rdb (188 bytes security) (deflated 1%)
adding: R/sysdata.rdx (188 bytes security) (stored 0%)