##############################################################################
##############################################################################
###
### Running command:
###
### cd chopsticks.buildbin-libdir/chopsticks && zip -r ../../chopsticks_1.32.0.zip . & cd ../..
###
##############################################################################
##############################################################################
adding: data/ (256 bytes security) (stored 0%)
adding: data/datalist (188 bytes security) (deflated 22%)
adding: data/for.exercise.RData (188 bytes security) (deflated 0%)
adding: data/testdata.RData (188 bytes security) (deflated 0%)
adding: DESCRIPTION (188 bytes security) (deflated 40%)
adding: doc/ (256 bytes security) (stored 0%)
adding: doc/chopsticks-vignette.pdf (188 bytes security) (deflated 16%)
adding: doc/chopsticks-vignette.R (188 bytes security) (deflated 83%)
adding: doc/chopsticks-vignette.Rnw (188 bytes security) (deflated 59%)
adding: doc/index.html (188 bytes security) (deflated 60%)
adding: help/ (256 bytes security) (stored 0%)
adding: help/aliases.rds (188 bytes security) (stored 0%)
adding: help/AnIndex (188 bytes security) (deflated 77%)
adding: help/chopsticks.rdb (188 bytes security) (deflated 1%)
adding: help/chopsticks.rdx (188 bytes security) (stored 0%)
adding: help/paths.rds (188 bytes security) (stored 0%)
adding: html/ (256 bytes security) (stored 0%)
adding: html/00Index.html (188 bytes security) (deflated 83%)
adding: html/R.css (188 bytes security) (deflated 75%)
adding: INDEX (188 bytes security) (deflated 66%)
adding: libs/ (256 bytes security) (stored 0%)
adding: libs/i386/ (256 bytes security) (stored 0%)
adding: libs/i386/chopsticks.dll (188 bytes security) (deflated 52%)
adding: libs/x64/ (256 bytes security) (stored 0%)
adding: libs/x64/chopsticks.dll (188 bytes security) (deflated 52%)
adding: MD5 (188 bytes security) (deflated 44%)
adding: Meta/ (256 bytes security) (stored 0%)
adding: Meta/data.rds (188 bytes security) (stored 0%)
adding: Meta/hsearch.rds (188 bytes security) (stored 0%)
adding: Meta/links.rds (188 bytes security) (stored 0%)
adding: Meta/nsInfo.rds (188 bytes security) (stored 0%)
adding: Meta/package.rds (188 bytes security) (stored 0%)
adding: Meta/Rd.rds (188 bytes security) (stored 0%)
adding: Meta/vignette.rds (188 bytes security) (stored 0%)
adding: NAMESPACE (188 bytes security) (deflated 51%)
adding: R/ (256 bytes security) (stored 0%)
adding: R/chopsticks (188 bytes security) (deflated 41%)
adding: R/chopsticks.rdb (188 bytes security) (deflated 19%)
adding: R/chopsticks.rdx (188 bytes security) (stored 0%)