##############################################################################
##############################################################################
###
### Running command:
###
### /home/biocbuild/bbs-3.1-bioc/R/bin/R CMD INSTALL cellHTS2
###
##############################################################################
##############################################################################
* installing to library ‘/home/biocbuild/bbs-3.1-bioc/R/library’
* installing *source* package ‘cellHTS2’ ...
** R
** data
** inst
** preparing package for lazy loading
Creating a generic function for ‘nchar’ from package ‘base’ in package ‘S4Vectors’
Creating a generic function for ‘lines’ from package ‘graphics’ in package ‘cellHTS2’
** help
*** installing help indices
** building package indices
** installing vignettes
** testing if installed package can be loaded
Creating a generic function for ‘nchar’ from package ‘base’ in package ‘S4Vectors’
* DONE (cellHTS2)