beadarray 2.18.0 Mark Dunning
Snapshot Date: 2015-10-08 17:20:21 -0700 (Thu, 08 Oct 2015) | URL: https://hedgehog.fhcrc.org/bioconductor/branches/RELEASE_3_1/madman/Rpacks/beadarray | Last Changed Rev: 102591 / Revision: 109384 | Last Changed Date: 2015-04-16 12:42:01 -0700 (Thu, 16 Apr 2015) |
| zin2 | Linux (Ubuntu 14.04.2 LTS) / x86_64 | OK | OK | OK | | ![UNNEEDED, same version exists in internal repository UNNEEDED, same version exists in internal repository](../120px-Blue_Light_Icon.svg.png) |
moscato2 | Windows Server 2008 R2 Enterprise SP1 (64-bit) / x64 | [ OK ] | OK | OK | OK | ![UNNEEDED, same version exists in internal repository UNNEEDED, same version exists in internal repository](../120px-Blue_Light_Icon.svg.png) |
petty | Mac OS X Snow Leopard (10.6.8) / x86_64 | OK | OK | OK | OK | ![UNNEEDED, same version exists in internal repository UNNEEDED, same version exists in internal repository](../120px-Blue_Light_Icon.svg.png) |
morelia | Mac OS X Mavericks (10.9.5) / x86_64 | OK | OK | OK | OK | ![UNNEEDED, same version exists in internal repository UNNEEDED, same version exists in internal repository](../120px-Blue_Light_Icon.svg.png) |
##############################################################################
##############################################################################
###
### Running command:
###
### C:\cygwin\bin\curl.exe -O http://zin2/BBS/3.1/bioc/src/contrib/beadarray_2.18.0.tar.gz && E:\biocbld\bbs-3.1-bioc\R\bin\R.exe CMD INSTALL --merge-multiarch beadarray_2.18.0.tar.gz && rm beadarray_2.18.0.tar.gz
###
##############################################################################
##############################################################################
install for i386
* installing to library 'E:/biocbld/bbs-3.1-bioc/R/library'
* installing *source* package 'beadarray' ...
** libs
gcc -m32 -I"E:/biocbld/BBS-3˜1.1-B/R/include" -DNDEBUG -I"d:/RCompile/r-compiling/local/local320/include" -O3 -Wall -std=gnu99 -mtune=core2 -c BASH.c -o BASH.o
gcc -m32 -I"E:/biocbld/BBS-3˜1.1-B/R/include" -DNDEBUG -I"d:/RCompile/r-compiling/local/local320/include" -O3 -Wall -std=gnu99 -mtune=core2 -c HULK.c -o HULK.o
gcc -m32 -I"E:/biocbld/BBS-3˜1.1-B/R/include" -DNDEBUG -I"d:/RCompile/r-compiling/local/local320/include" -O3 -Wall -std=gnu99 -mtune=core2 -c determiningGridPositions.c -o determiningGridPositions.o
gcc -m32 -I"E:/biocbld/BBS-3˜1.1-B/R/include" -DNDEBUG -I"d:/RCompile/r-compiling/local/local320/include" -O3 -Wall -std=gnu99 -mtune=core2 -c findAllOutliers.c -o findAllOutliers.o
findAllOutliers.c: In function 'findBeadStatus':
findAllOutliers.c:196:29: warning: 'ma' may be used uninitialized in this function [-Wuninitialized]
findAllOutliers.c:196:53: warning: 'm' may be used uninitialized in this function [-Wuninitialized]
findAllOutliers.c: In function 'findAllOutliers':
findAllOutliers.c:247:13: warning: 'status' may be used uninitialized in this function [-Wuninitialized]
gcc -m32 -I"E:/biocbld/BBS-3˜1.1-B/R/include" -DNDEBUG -I"d:/RCompile/r-compiling/local/local320/include" -O3 -Wall -std=gnu99 -mtune=core2 -c imageProcessing.c -o imageProcessing.o
imageProcessing.c: In function 'illuminaBackground':
imageProcessing.c:88:0: warning: ignoring #pragma omp parallel [-Wunknown-pragmas]
imageProcessing.c: In function 'medianBackground':
imageProcessing.c:135:0: warning: ignoring #pragma omp parallel [-Wunknown-pragmas]
imageProcessing.c: In function 'illuminaSharpen':
imageProcessing.c:244:0: warning: ignoring #pragma omp parallel [-Wunknown-pragmas]
imageProcessing.c:251:0: warning: ignoring #pragma omp parallel [-Wunknown-pragmas]
gcc -m32 -shared -s -static-libgcc -o beadarray.dll tmp.def BASH.o HULK.o determiningGridPositions.o findAllOutliers.o imageProcessing.o -Ld:/RCompile/r-compiling/local/local320/lib/i386 -Ld:/RCompile/r-compiling/local/local320/lib -LE:/biocbld/BBS-3˜1.1-B/R/bin/i386 -lR
installing to E:/biocbld/bbs-3.1-bioc/R/library/beadarray/libs/i386
** R
** data
*** moving datasets to lazyload DB
** inst
** preparing package for lazy loading
Creating a generic function for 'nchar' from package 'base' in package 'S4Vectors'
** help
*** installing help indices
** building package indices
** installing vignettes
** testing if installed package can be loaded
Creating a generic function for 'nchar' from package 'base' in package 'S4Vectors'
install for x64
* installing to library 'E:/biocbld/bbs-3.1-bioc/R/library'
* installing *source* package 'beadarray' ...
** libs
gcc -m64 -I"E:/biocbld/BBS-3˜1.1-B/R/include" -DNDEBUG -I"d:/RCompile/r-compiling/local/local320/include" -O2 -Wall -std=gnu99 -mtune=core2 -c BASH.c -o BASH.o
gcc -m64 -I"E:/biocbld/BBS-3˜1.1-B/R/include" -DNDEBUG -I"d:/RCompile/r-compiling/local/local320/include" -O2 -Wall -std=gnu99 -mtune=core2 -c HULK.c -o HULK.o
gcc -m64 -I"E:/biocbld/BBS-3˜1.1-B/R/include" -DNDEBUG -I"d:/RCompile/r-compiling/local/local320/include" -O2 -Wall -std=gnu99 -mtune=core2 -c determiningGridPositions.c -o determiningGridPositions.o
gcc -m64 -I"E:/biocbld/BBS-3˜1.1-B/R/include" -DNDEBUG -I"d:/RCompile/r-compiling/local/local320/include" -O2 -Wall -std=gnu99 -mtune=core2 -c findAllOutliers.c -o findAllOutliers.o
findAllOutliers.c: In function 'findBeadStatus':
findAllOutliers.c:196:29: warning: 'ma' may be used uninitialized in this function [-Wuninitialized]
findAllOutliers.c:196:53: warning: 'm' may be used uninitialized in this function [-Wuninitialized]
findAllOutliers.c: In function 'findAllOutliers':
findAllOutliers.c:247:13: warning: 'status' may be used uninitialized in this function [-Wuninitialized]
gcc -m64 -I"E:/biocbld/BBS-3˜1.1-B/R/include" -DNDEBUG -I"d:/RCompile/r-compiling/local/local320/include" -O2 -Wall -std=gnu99 -mtune=core2 -c imageProcessing.c -o imageProcessing.o
imageProcessing.c: In function 'illuminaBackground':
imageProcessing.c:88:0: warning: ignoring #pragma omp parallel [-Wunknown-pragmas]
imageProcessing.c: In function 'medianBackground':
imageProcessing.c:135:0: warning: ignoring #pragma omp parallel [-Wunknown-pragmas]
imageProcessing.c: In function 'illuminaSharpen':
imageProcessing.c:244:0: warning: ignoring #pragma omp parallel [-Wunknown-pragmas]
imageProcessing.c:251:0: warning: ignoring #pragma omp parallel [-Wunknown-pragmas]
gcc -m64 -shared -s -static-libgcc -o beadarray.dll tmp.def BASH.o HULK.o determiningGridPositions.o findAllOutliers.o imageProcessing.o -Ld:/RCompile/r-compiling/local/local320/lib/x64 -Ld:/RCompile/r-compiling/local/local320/lib -LE:/biocbld/BBS-3˜1.1-B/R/bin/x64 -lR
installing to E:/biocbld/bbs-3.1-bioc/R/library/beadarray/libs/x64
** testing if installed package can be loaded
Creating a generic function for 'nchar' from package 'base' in package 'S4Vectors'
* DONE (beadarray)