Starr 1.24.0 Benedikt Zacher
Snapshot Date: 2015-10-08 17:20:21 -0700 (Thu, 08 Oct 2015) | URL: https://hedgehog.fhcrc.org/bioconductor/branches/RELEASE_3_1/madman/Rpacks/Starr | Last Changed Rev: 102591 / Revision: 109384 | Last Changed Date: 2015-04-16 12:42:01 -0700 (Thu, 16 Apr 2015) |
| zin2 | Linux (Ubuntu 14.04.2 LTS) / x86_64 | [ OK ] | OK | OK | | ![UNNEEDED, same version exists in internal repository UNNEEDED, same version exists in internal repository](../120px-Blue_Light_Icon.svg.png) |
moscato2 | Windows Server 2008 R2 Enterprise SP1 (64-bit) / x64 | OK | OK | OK | OK | ![UNNEEDED, same version exists in internal repository UNNEEDED, same version exists in internal repository](../120px-Blue_Light_Icon.svg.png) |
petty | Mac OS X Snow Leopard (10.6.8) / x86_64 | OK | OK | OK | OK | ![UNNEEDED, same version exists in internal repository UNNEEDED, same version exists in internal repository](../120px-Blue_Light_Icon.svg.png) |
morelia | Mac OS X Mavericks (10.9.5) / x86_64 | OK | OK | OK | OK | ![UNNEEDED, same version exists in internal repository UNNEEDED, same version exists in internal repository](../120px-Blue_Light_Icon.svg.png) |
##############################################################################
##############################################################################
###
### Running command:
###
### /home/biocbuild/bbs-3.1-bioc/R/bin/R CMD INSTALL Starr
###
##############################################################################
##############################################################################
* installing to library ‘/home/biocbuild/bbs-3.1-bioc/R/library’
* installing *source* package ‘Starr’ ...
creating cache ./config.cache
checking how to run the C preprocessor... cc -E
checking for main in -lz... yes
checking for zlib.h... yes
checking if zlib version >= 1.1.3... yes
updating cache ./config.cache
creating ./config.status
creating src/Makevars
** libs
gcc -std=gnu99 -I/home/biocbuild/bbs-3.1-bioc/R/include -DNDEBUG -DHAVE_ZLIB=1 -I/usr/local/include -fpic -g -O2 -Wall -c ahocorasick.c -o ahocorasick.o
gcc -std=gnu99 -I/home/biocbuild/bbs-3.1-bioc/R/include -DNDEBUG -DHAVE_ZLIB=1 -I/usr/local/include -fpic -g -O2 -Wall -c collect.c -o collect.o
gcc -std=gnu99 -I/home/biocbuild/bbs-3.1-bioc/R/include -DNDEBUG -DHAVE_ZLIB=1 -I/usr/local/include -fpic -g -O2 -Wall -c rm_small_peak.c -o rm_small_peak.o
gcc -std=gnu99 -I/home/biocbuild/bbs-3.1-bioc/R/include -DNDEBUG -DHAVE_ZLIB=1 -I/usr/local/include -fpic -g -O2 -Wall -c sort_by_genomic.c -o sort_by_genomic.o
gcc -std=gnu99 -shared -L/home/biocbuild/bbs-3.1-bioc/R/lib -L/usr/local/lib -o Starr.so ahocorasick.o collect.o rm_small_peak.o sort_by_genomic.o -lz -L/home/biocbuild/bbs-3.1-bioc/R/lib -lR
installing to /home/biocbuild/bbs-3.1-bioc/R/library/Starr/libs
** R
** inst
** preparing package for lazy loading
Creating a generic function for ‘nchar’ from package ‘base’ in package ‘S4Vectors’
** help
*** installing help indices
** building package indices
** installing vignettes
** testing if installed package can be loaded
Creating a generic function for ‘nchar’ from package ‘base’ in package ‘S4Vectors’
* DONE (Starr)