##############################################################################
##############################################################################
###
### Running command:
###
### cd SigCheck.buildbin-libdir/SigCheck && zip -r ../../SigCheck_2.0.2.zip . & cd ../..
###
##############################################################################
##############################################################################
adding: data/ (256 bytes security) (stored 0%)
adding: data/classifyResults.RData (188 bytes security) (deflated 2%)
adding: data/datalist (188 bytes security) (deflated 11%)
adding: data/knownSignatures.RData (188 bytes security) (stored 0%)
adding: data/nkiResults.RData (188 bytes security) (deflated 2%)
adding: DESCRIPTION (188 bytes security) (deflated 47%)
adding: doc/ (256 bytes security) (stored 0%)
adding: doc/index.html (188 bytes security) (deflated 58%)
adding: doc/SigCheck.pdf (188 bytes security) (deflated 17%)
adding: doc/SigCheck.R (188 bytes security) (deflated 84%)
adding: doc/SigCheck.Rnw (188 bytes security) (deflated 68%)
adding: help/ (256 bytes security) (stored 0%)
adding: help/aliases.rds (188 bytes security) (stored 0%)
adding: help/AnIndex (188 bytes security) (deflated 64%)
adding: help/paths.rds (188 bytes security) (stored 0%)
adding: help/SigCheck.rdb (188 bytes security) (deflated 1%)
adding: help/SigCheck.rdx (188 bytes security) (stored 0%)
adding: html/ (256 bytes security) (stored 0%)
adding: html/00Index.html (188 bytes security) (deflated 72%)
adding: html/R.css (188 bytes security) (deflated 75%)
adding: INDEX (188 bytes security) (deflated 69%)
adding: MD5 (188 bytes security) (deflated 43%)
adding: Meta/ (256 bytes security) (stored 0%)
adding: Meta/data.rds (188 bytes security) (stored 0%)
adding: Meta/hsearch.rds (188 bytes security) (stored 0%)
adding: Meta/links.rds (188 bytes security) (stored 0%)
adding: Meta/nsInfo.rds (188 bytes security) (stored 0%)
adding: Meta/package.rds (188 bytes security) (stored 0%)
adding: Meta/Rd.rds (188 bytes security) (stored 0%)
adding: Meta/vignette.rds (188 bytes security) (stored 0%)
adding: NAMESPACE (188 bytes security) (deflated 68%)
adding: NEWS.Rd (188 bytes security) (deflated 52%)
adding: R/ (256 bytes security) (stored 0%)
adding: R/SigCheck (188 bytes security) (deflated 41%)
adding: R/SigCheck.rdb (188 bytes security) (deflated 28%)
adding: R/SigCheck.rdx (188 bytes security) (deflated 2%)