##############################################################################
##############################################################################
###
### Running command:
###
### cd SeqVarTools.buildbin-libdir/SeqVarTools && zip -r ../../SeqVarTools_1.6.0.zip . & cd ../..
###
##############################################################################
##############################################################################
adding: data/ (256 bytes security) (stored 0%)
adding: data/Rdata.rdb (188 bytes security) (stored 0%)
adding: data/Rdata.rds (188 bytes security) (deflated 1%)
adding: data/Rdata.rdx (188 bytes security) (stored 0%)
adding: DESCRIPTION (188 bytes security) (deflated 37%)
adding: doc/ (256 bytes security) (stored 0%)
adding: doc/index.html (188 bytes security) (deflated 59%)
adding: doc/SeqVarTools.pdf (188 bytes security) (deflated 22%)
adding: doc/SeqVarTools.R (188 bytes security) (deflated 79%)
adding: doc/SeqVarTools.Rnw (188 bytes security) (deflated 61%)
adding: extdata/ (256 bytes security) (stored 0%)
adding: extdata/gl_chr1.gds (188 bytes security) (deflated 56%)
adding: extdata/gl_chr1.vcf (188 bytes security) (deflated 80%)
adding: help/ (256 bytes security) (stored 0%)
adding: help/aliases.rds (188 bytes security) (stored 0%)
adding: help/AnIndex (188 bytes security) (deflated 79%)
adding: help/paths.rds (188 bytes security) (stored 0%)
adding: help/SeqVarTools.rdb (188 bytes security) (deflated 1%)
adding: help/SeqVarTools.rdx (188 bytes security) (stored 0%)
adding: html/ (256 bytes security) (stored 0%)
adding: html/00Index.html (188 bytes security) (deflated 82%)
adding: html/R.css (188 bytes security) (deflated 75%)
adding: INDEX (188 bytes security) (deflated 54%)
adding: MD5 (188 bytes security) (deflated 46%)
adding: Meta/ (256 bytes security) (stored 0%)
adding: Meta/data.rds (188 bytes security) (stored 0%)
adding: Meta/hsearch.rds (188 bytes security) (stored 0%)
adding: Meta/links.rds (188 bytes security) (stored 0%)
adding: Meta/nsInfo.rds (188 bytes security) (stored 0%)
adding: Meta/package.rds (188 bytes security) (stored 0%)
adding: Meta/Rd.rds (188 bytes security) (stored 0%)
adding: Meta/vignette.rds (188 bytes security) (stored 0%)
adding: NAMESPACE (188 bytes security) (deflated 62%)
adding: NEWS.Rd (188 bytes security) (deflated 27%)
adding: R/ (256 bytes security) (stored 0%)
adding: R/SeqVarTools (188 bytes security) (deflated 41%)
adding: R/SeqVarTools.rdb (188 bytes security) (deflated 42%)
adding: R/SeqVarTools.rdx (188 bytes security) (deflated 0%)
adding: unitTests/ (256 bytes security) (stored 0%)
adding: unitTests/test_alleleFrequency.R (188 bytes security) (deflated 60%)
adding: unitTests/test_alleles.R (188 bytes security) (deflated 77%)
adding: unitTests/test_applyMethod.R (188 bytes security) (deflated 81%)
adding: unitTests/test_duplicateDiscordance.R (188 bytes security) (deflated 66%)
adding: unitTests/test_getData.R (188 bytes security) (deflated 84%)
adding: unitTests/test_hethom.R (188 bytes security) (deflated 85%)
adding: unitTests/test_hwe.R (188 bytes security) (deflated 52%)
adding: unitTests/test_inbreedCoeff.R (188 bytes security) (deflated 61%)
adding: unitTests/test_meanBySample.R (188 bytes security) (deflated 58%)
adding: unitTests/test_mendelErr.R (188 bytes security) (deflated 81%)
adding: unitTests/test_missingGenotypeRate.R (188 bytes security) (deflated 69%)
adding: unitTests/test_pca.R (188 bytes security) (deflated 54%)
adding: unitTests/test_setVariantID.R (188 bytes security) (deflated 60%)
adding: unitTests/test_titv.R (188 bytes security) (deflated 71%)
adding: unitTests/test_VariableLength.R (188 bytes security) (deflated 69%)