##############################################################################
##############################################################################
###
### Running command:
###
### cd SeqGSEA.buildbin-libdir/SeqGSEA && zip -r ../../SeqGSEA_1.8.1.zip . & cd ../..
###
##############################################################################
##############################################################################
adding: CITATION (188 bytes security) (deflated 62%)
adding: data/ (256 bytes security) (stored 0%)
adding: data/DEscore.perm.RData (188 bytes security) (deflated 0%)
adding: data/DEscore.RData (188 bytes security) (stored 0%)
adding: data/DSscore.perm.RData (188 bytes security) (deflated 0%)
adding: data/DSscore.RData (188 bytes security) (stored 0%)
adding: data/GS_example.RData (188 bytes security) (stored 0%)
adding: data/RCS_example.RData (188 bytes security) (deflated 12%)
adding: DESCRIPTION (188 bytes security) (deflated 45%)
adding: doc/ (256 bytes security) (stored 0%)
adding: doc/index.html (188 bytes security) (deflated 57%)
adding: doc/SeqGSEA.pdf (188 bytes security) (deflated 12%)
adding: doc/SeqGSEA.R (188 bytes security) (deflated 83%)
adding: doc/SeqGSEA.Rnw (188 bytes security) (deflated 73%)
adding: extdata/ (256 bytes security) (stored 0%)
adding: extdata/geneCounts.txt (188 bytes security) (deflated 59%)
adding: extdata/gs_symb.txt (188 bytes security) (deflated 56%)
adding: extdata/SC02.exonCnt.txt (188 bytes security) (deflated 85%)
adding: extdata/SC03.exonCnt.txt (188 bytes security) (deflated 86%)
adding: extdata/SC06.exonCnt.txt (188 bytes security) (deflated 85%)
adding: extdata/SC08.exonCnt.txt (188 bytes security) (deflated 86%)
adding: extdata/SC09.exonCnt.txt (188 bytes security) (deflated 86%)
adding: extdata/SC11.exonCnt.txt (188 bytes security) (deflated 85%)
adding: extdata/SC13.exonCnt.txt (188 bytes security) (deflated 84%)
adding: extdata/SC15.exonCnt.txt (188 bytes security) (deflated 85%)
adding: extdata/SC19.exonCnt.txt (188 bytes security) (deflated 85%)
adding: extdata/SC23.exonCnt.txt (188 bytes security) (deflated 85%)
adding: extdata/SN02.exonCnt.txt (188 bytes security) (deflated 86%)
adding: extdata/SN03.exonCnt.txt (188 bytes security) (deflated 86%)
adding: extdata/SN06.exonCnt.txt (188 bytes security) (deflated 86%)
adding: extdata/SN08.exonCnt.txt (188 bytes security) (deflated 86%)
adding: extdata/SN09.exonCnt.txt (188 bytes security) (deflated 86%)
adding: extdata/SN11.exonCnt.txt (188 bytes security) (deflated 85%)
adding: extdata/SN13.exonCnt.txt (188 bytes security) (deflated 85%)
adding: extdata/SN15.exonCnt.txt (188 bytes security) (deflated 85%)
adding: extdata/SN19.exonCnt.txt (188 bytes security) (deflated 85%)
adding: extdata/SN23.exonCnt.txt (188 bytes security) (deflated 85%)
adding: extscripts/ (256 bytes security) (stored 0%)
adding: extscripts/count_in_exons.py (188 bytes security) (deflated 66%)
adding: extscripts/prepare_exon_annotation_ensembl.py (188 bytes security) (deflated 61%)
adding: extscripts/prepare_exon_annotation_refseq.py (188 bytes security) (deflated 62%)
adding: help/ (256 bytes security) (stored 0%)
adding: help/aliases.rds (188 bytes security) (stored 0%)
adding: help/AnIndex (188 bytes security) (deflated 69%)
adding: help/paths.rds (188 bytes security) (stored 0%)
adding: help/SeqGSEA.rdb (188 bytes security) (deflated 3%)
adding: help/SeqGSEA.rdx (188 bytes security) (stored 0%)
adding: html/ (256 bytes security) (stored 0%)
adding: html/00Index.html (188 bytes security) (deflated 81%)
adding: html/R.css (188 bytes security) (deflated 75%)
adding: INDEX (188 bytes security) (deflated 73%)
adding: MD5 (188 bytes security) (deflated 50%)
adding: Meta/ (256 bytes security) (stored 0%)
adding: Meta/data.rds (188 bytes security) (stored 0%)
adding: Meta/hsearch.rds (188 bytes security) (stored 0%)
adding: Meta/links.rds (188 bytes security) (stored 0%)
adding: Meta/nsInfo.rds (188 bytes security) (stored 0%)
adding: Meta/package.rds (188 bytes security) (stored 0%)
adding: Meta/Rd.rds (188 bytes security) (stored 0%)
adding: Meta/vignette.rds (188 bytes security) (stored 0%)
adding: NAMESPACE (188 bytes security) (deflated 63%)
adding: NEWS (188 bytes security) (deflated 44%)
adding: R/ (256 bytes security) (stored 0%)
adding: R/SeqGSEA (188 bytes security) (deflated 41%)
adding: R/SeqGSEA.rdb (188 bytes security) (deflated 23%)
adding: R/SeqGSEA.rdx (188 bytes security) (stored 0%)