##############################################################################
##############################################################################
###
### Running command:
###
### cd INPower.buildbin-libdir/INPower && zip -r ../../INPower_1.4.0.zip . & cd ../..
###
##############################################################################
##############################################################################
adding: DESCRIPTION (188 bytes security) (deflated 35%)
adding: doc/ (256 bytes security) (stored 0%)
adding: doc/index.html (188 bytes security) (deflated 58%)
adding: doc/vignette.pdf (188 bytes security) (deflated 6%)
adding: doc/vignette.R (188 bytes security) (deflated 79%)
adding: doc/vignette.Rnw (188 bytes security) (deflated 57%)
adding: help/ (256 bytes security) (stored 0%)
adding: help/aliases.rds (188 bytes security) (deflated 3%)
adding: help/AnIndex (188 bytes security) (deflated 18%)
adding: help/INPower.rdb (188 bytes security) (stored 0%)
adding: help/INPower.rdx (188 bytes security) (stored 0%)
adding: help/paths.rds (188 bytes security) (stored 0%)
adding: html/ (256 bytes security) (stored 0%)
adding: html/00Index.html (188 bytes security) (deflated 52%)
adding: html/R.css (188 bytes security) (deflated 75%)
adding: INDEX (188 bytes security) (deflated 31%)
adding: LICENSE (188 bytes security) (deflated 46%)
adding: MD5 (188 bytes security) (deflated 41%)
adding: Meta/ (256 bytes security) (stored 0%)
adding: Meta/hsearch.rds (188 bytes security) (stored 0%)
adding: Meta/links.rds (188 bytes security) (stored 0%)
adding: Meta/nsInfo.rds (188 bytes security) (stored 0%)
adding: Meta/package.rds (188 bytes security) (stored 0%)
adding: Meta/Rd.rds (188 bytes security) (stored 0%)
adding: Meta/vignette.rds (188 bytes security) (stored 0%)
adding: NAMESPACE (188 bytes security) (deflated 14%)
adding: NEWS (188 bytes security) (deflated 33%)
adding: R/ (256 bytes security) (stored 0%)
adding: R/INPower (188 bytes security) (deflated 41%)
adding: R/INPower.rdb (188 bytes security) (deflated 5%)
adding: R/INPower.rdx (188 bytes security) (stored 0%)
adding: sampleData/ (256 bytes security) (stored 0%)
adding: sampleData/data.rda (188 bytes security) (stored 0%)
adding: unitTests/ (256 bytes security) (stored 0%)
adding: unitTests/test_INPower.R (188 bytes security) (deflated 57%)