##############################################################################
##############################################################################
###
### Running command:
###
### cd GlobalAncova.buildbin-libdir/GlobalAncova && zip -r ../../GlobalAncova_3.36.0.zip . & cd ../..
###
##############################################################################
##############################################################################
adding: data/ (256 bytes security) (stored 0%)
adding: data/colon.normal.rda (188 bytes security) (deflated 0%)
adding: data/colon.pheno.rda (188 bytes security) (stored 0%)
adding: data/colon.tumour.rda (188 bytes security) (deflated 0%)
adding: data/pathways.rda (188 bytes security) (stored 0%)
adding: data/phenodata.rda (188 bytes security) (deflated 1%)
adding: data/vantVeer.rda (188 bytes security) (deflated 2%)
adding: DESCRIPTION (188 bytes security) (deflated 44%)
adding: doc/ (256 bytes security) (stored 0%)
adding: doc/GlobalAncova.pdf (188 bytes security) (deflated 13%)
adding: doc/GlobalAncova.R (188 bytes security) (deflated 83%)
adding: doc/GlobalAncova.rnw (188 bytes security) (deflated 69%)
adding: doc/GlobalAncovaDecomp.pdf (188 bytes security) (deflated 7%)
adding: doc/GlobalAncovaDecomp.R (188 bytes security) (deflated 86%)
adding: doc/GlobalAncovaDecomp.rnw (188 bytes security) (deflated 68%)
adding: doc/index.html (188 bytes security) (deflated 69%)
adding: help/ (256 bytes security) (stored 0%)
adding: help/aliases.rds (188 bytes security) (stored 0%)
adding: help/AnIndex (188 bytes security) (deflated 81%)
adding: help/GlobalAncova.rdb (188 bytes security) (deflated 1%)
adding: help/GlobalAncova.rdx (188 bytes security) (stored 0%)
adding: help/paths.rds (188 bytes security) (stored 0%)
adding: html/ (256 bytes security) (stored 0%)
adding: html/00Index.html (188 bytes security) (deflated 76%)
adding: html/R.css (188 bytes security) (deflated 75%)
adding: INDEX (188 bytes security) (deflated 69%)
adding: libs/ (256 bytes security) (stored 0%)
adding: libs/i386/ (256 bytes security) (stored 0%)
adding: libs/i386/GlobalAncova.dll (188 bytes security) (deflated 52%)
adding: libs/x64/ (256 bytes security) (stored 0%)
adding: libs/x64/GlobalAncova.dll (188 bytes security) (deflated 54%)
adding: MD5 (188 bytes security) (deflated 47%)
adding: Meta/ (256 bytes security) (stored 0%)
adding: Meta/data.rds (188 bytes security) (stored 0%)
adding: Meta/hsearch.rds (188 bytes security) (stored 0%)
adding: Meta/links.rds (188 bytes security) (stored 0%)
adding: Meta/nsInfo.rds (188 bytes security) (stored 0%)
adding: Meta/package.rds (188 bytes security) (stored 0%)
adding: Meta/Rd.rds (188 bytes security) (stored 0%)
adding: Meta/vignette.rds (188 bytes security) (stored 0%)
adding: NAMESPACE (188 bytes security) (deflated 38%)
adding: R/ (256 bytes security) (stored 0%)
adding: R/GlobalAncova (188 bytes security) (deflated 41%)
adding: R/GlobalAncova.rdb (188 bytes security) (deflated 26%)
adding: R/GlobalAncova.rdx (188 bytes security) (stored 0%)