##############################################################################
##############################################################################
###
### Running command:
###
### cd FunciSNP.buildbin-libdir/FunciSNP && zip -r ../../FunciSNP_1.10.0.zip . & cd ../..
###
##############################################################################
##############################################################################
adding: CITATION (188 bytes security) (deflated 66%)
adding: data/ (256 bytes security) (stored 0%)
adding: data/datalist (188 bytes security) (stored 0%)
adding: data/Rdata.rdb (188 bytes security) (deflated 4%)
adding: data/Rdata.rds (188 bytes security) (stored 0%)
adding: data/Rdata.rdx (188 bytes security) (stored 0%)
adding: DESCRIPTION (188 bytes security) (deflated 41%)
adding: doc/ (256 bytes security) (stored 0%)
adding: doc/FunciSNP_vignette.pdf (188 bytes security) (deflated 12%)
adding: doc/FunciSNP_vignette.R (188 bytes security) (deflated 76%)
adding: doc/FunciSNP_vignette.Rnw (188 bytes security) (deflated 69%)
adding: doc/index.html (188 bytes security) (deflated 60%)
adding: extdata/ (256 bytes security) (stored 0%)
adding: extdata/glioma.snp (188 bytes security) (deflated 23%)
adding: extdata/TFBS_Nrsf_U87.bed (188 bytes security) (stored 0%)
adding: extdata/TFBS_Pol2_U87.bed (188 bytes security) (deflated 0%)
adding: help/ (256 bytes security) (stored 0%)
adding: help/aliases.rds (188 bytes security) (stored 0%)
adding: help/AnIndex (188 bytes security) (deflated 85%)
adding: help/FunciSNP.rdb (188 bytes security) (deflated 1%)
adding: help/FunciSNP.rdx (188 bytes security) (stored 0%)
adding: help/paths.rds (188 bytes security) (stored 0%)
adding: html/ (256 bytes security) (stored 0%)
adding: html/00Index.html (188 bytes security) (deflated 89%)
adding: html/R.css (188 bytes security) (deflated 75%)
adding: INDEX (188 bytes security) (deflated 64%)
adding: MD5 (188 bytes security) (deflated 44%)
adding: Meta/ (256 bytes security) (stored 0%)
adding: Meta/data.rds (188 bytes security) (stored 0%)
adding: Meta/hsearch.rds (188 bytes security) (stored 0%)
adding: Meta/links.rds (188 bytes security) (stored 0%)
adding: Meta/nsInfo.rds (188 bytes security) (stored 0%)
adding: Meta/package.rds (188 bytes security) (stored 0%)
adding: Meta/Rd.rds (188 bytes security) (stored 0%)
adding: Meta/vignette.rds (188 bytes security) (stored 0%)
adding: NAMESPACE (188 bytes security) (deflated 69%)
adding: NEWS (188 bytes security) (deflated 38%)
adding: R/ (256 bytes security) (stored 0%)
adding: R/FunciSNP (188 bytes security) (deflated 41%)
adding: R/FunciSNP.rdb (188 bytes security) (deflated 34%)
adding: R/FunciSNP.rdx (188 bytes security) (stored 0%)