##############################################################################
##############################################################################
###
### Running command:
###
### cd EDDA.buildbin-libdir/EDDA && zip -r ../../EDDA_1.6.0.zip . & cd ../..
###
##############################################################################
##############################################################################
adding: data/ (256 bytes security) (stored 0%)
adding: data/BP.txt.gz (188 bytes security) (deflated 57%)
adding: data/datalist (188 bytes security) (stored 0%)
adding: data/HBR.txt.gz (188 bytes security) (deflated 0%)
adding: data/SingleCell.txt.gz (188 bytes security) (deflated 0%)
adding: data/Wu.txt.gz (188 bytes security) (deflated 62%)
adding: DESCRIPTION (188 bytes security) (deflated 44%)
adding: doc/ (256 bytes security) (stored 0%)
adding: doc/EDDA.pdf (188 bytes security) (deflated 6%)
adding: doc/EDDA.Rnw (188 bytes security) (deflated 64%)
adding: doc/index.html (188 bytes security) (deflated 56%)
adding: help/ (256 bytes security) (stored 0%)
adding: help/aliases.rds (188 bytes security) (stored 0%)
adding: help/AnIndex (188 bytes security) (deflated 40%)
adding: help/EDDA.rdb (188 bytes security) (deflated 2%)
adding: help/EDDA.rdx (188 bytes security) (stored 0%)
adding: help/paths.rds (188 bytes security) (stored 0%)
adding: html/ (256 bytes security) (stored 0%)
adding: html/00Index.html (188 bytes security) (deflated 65%)
adding: html/R.css (188 bytes security) (deflated 75%)
adding: INDEX (188 bytes security) (deflated 59%)
adding: libs/ (256 bytes security) (stored 0%)
adding: libs/i386/ (256 bytes security) (stored 0%)
adding: libs/i386/EDDA.dll (188 bytes security) (deflated 65%)
adding: libs/x64/ (256 bytes security) (stored 0%)
adding: libs/x64/EDDA.dll (188 bytes security) (deflated 69%)
adding: MD5 (188 bytes security) (deflated 42%)
adding: Meta/ (256 bytes security) (stored 0%)
adding: Meta/data.rds (188 bytes security) (stored 0%)
adding: Meta/hsearch.rds (188 bytes security) (stored 0%)
adding: Meta/links.rds (188 bytes security) (stored 0%)
adding: Meta/nsInfo.rds (188 bytes security) (stored 0%)
adding: Meta/package.rds (188 bytes security) (stored 0%)
adding: Meta/Rd.rds (188 bytes security) (stored 0%)
adding: Meta/vignette.rds (188 bytes security) (stored 0%)
adding: NAMESPACE (188 bytes security) (deflated 50%)
adding: NEWS (188 bytes security) (deflated 55%)
adding: R/ (256 bytes security) (stored 0%)
adding: R/EDDA (188 bytes security) (deflated 41%)
adding: R/EDDA.rdb (188 bytes security) (deflated 2%)
adding: R/EDDA.rdx (188 bytes security) (stored 0%)