##############################################################################
##############################################################################
###
### Running command:
###
### cd ConsensusClusterPlus.buildbin-libdir/ConsensusClusterPlus && zip -r ../../ConsensusClusterPlus_1.22.0.zip . & cd ../..
###
##############################################################################
##############################################################################
adding: DESCRIPTION (188 bytes security) (deflated 39%)
adding: doc/ (256 bytes security) (stored 0%)
adding: doc/ConsensusClusterPlus.pdf (188 bytes security) (deflated 8%)
adding: doc/ConsensusClusterPlus.R (188 bytes security) (deflated 81%)
adding: doc/ConsensusClusterPlus.Rnw (188 bytes security) (deflated 64%)
adding: doc/index.html (188 bytes security) (deflated 62%)
adding: help/ (256 bytes security) (stored 0%)
adding: help/aliases.rds (188 bytes security) (stored 0%)
adding: help/AnIndex (188 bytes security) (deflated 52%)
adding: help/ConsensusClusterPlus.rdb (188 bytes security) (stored 0%)
adding: help/ConsensusClusterPlus.rdx (188 bytes security) (stored 0%)
adding: help/paths.rds (188 bytes security) (stored 0%)
adding: html/ (256 bytes security) (stored 0%)
adding: html/00Index.html (188 bytes security) (deflated 56%)
adding: html/R.css (188 bytes security) (deflated 75%)
adding: INDEX (188 bytes security) (deflated 36%)
adding: MD5 (188 bytes security) (deflated 45%)
adding: Meta/ (256 bytes security) (stored 0%)
adding: Meta/hsearch.rds (188 bytes security) (stored 0%)
adding: Meta/links.rds (188 bytes security) (stored 0%)
adding: Meta/nsInfo.rds (188 bytes security) (stored 0%)
adding: Meta/package.rds (188 bytes security) (stored 0%)
adding: Meta/Rd.rds (188 bytes security) (stored 0%)
adding: Meta/vignette.rds (188 bytes security) (stored 0%)
adding: NAMESPACE (188 bytes security) (deflated 41%)
adding: NEWS (188 bytes security) (deflated 48%)
adding: R/ (256 bytes security) (stored 0%)
adding: R/ConsensusClusterPlus (188 bytes security) (deflated 41%)
adding: R/ConsensusClusterPlus.rdb (188 bytes security) (deflated 1%)
adding: R/ConsensusClusterPlus.rdx (188 bytes security) (stored 0%)