##############################################################################
##############################################################################
###
### Running command:
###
### /home/biocbuild/bbs-3.1-bioc/R/bin/R CMD INSTALL CAMERA
###
##############################################################################
##############################################################################
* installing to library ‘/home/biocbuild/bbs-3.1-bioc/R/library’
* installing *source* package ‘CAMERA’ ...
** libs
gcc -std=gnu99 -I/home/biocbuild/bbs-3.1-bioc/R/include -DNDEBUG -I/usr/local/include -fpic -g -O2 -Wall -c fastMatch.c -o fastMatch.o
gcc -std=gnu99 -shared -L/home/biocbuild/bbs-3.1-bioc/R/lib -L/usr/local/lib -o CAMERA.so fastMatch.o -L/home/biocbuild/bbs-3.1-bioc/R/lib -lR
installing to /home/biocbuild/bbs-3.1-bioc/R/library/CAMERA/libs
** R
** data
** inst
** byte-compile and prepare package for lazy loading
** help
*** installing help indices
** building package indices
** installing vignettes
** testing if installed package can be loaded
* DONE (CAMERA)