Back to the "Multiple platform build/check report" | A [B] C D E F G H I J K L M N O P Q R S T U V W X Y Z |
This page was generated on 2015-10-09 09:42:43 -0700 (Fri, 09 Oct 2015).
Package 117/1024 | Hostname | OS / Arch | INSTALL | BUILD | CHECK | BUILD BIN | |||||
BrowserViz 1.0.1 Paul Shannon
| zin2 | Linux (Ubuntu 14.04.2 LTS) / x86_64 | OK | OK | OK | ![]() | |||||
moscato2 | Windows Server 2008 R2 Enterprise SP1 (64-bit) / x64 | OK | OK | ERROR | OK | ||||||
petty | Mac OS X Snow Leopard (10.6.8) / x86_64 | OK | OK | ERROR | OK | ||||||
morelia | Mac OS X Mavericks (10.9.5) / x86_64 | OK | [ OK ] | ERROR | OK |
Package: BrowserViz |
Version: 1.0.1 |
Command: /Library/Frameworks/R.framework/Versions/Current/Resources/bin/R CMD build --keep-empty-dirs --no-resave-data BrowserViz |
StartedAt: 2015-10-08 22:36:58 -0700 (Thu, 08 Oct 2015) |
EndedAt: 2015-10-08 22:37:07 -0700 (Thu, 08 Oct 2015) |
EllapsedTime: 9.1 seconds |
RetCode: 0 |
Status: OK |
PackageFile: BrowserViz_1.0.1.tar.gz |
PackageFileSize: 135.8 KiB |
############################################################################## ############################################################################## ### ### Running command: ### ### /Library/Frameworks/R.framework/Versions/Current/Resources/bin/R CMD build --keep-empty-dirs --no-resave-data BrowserViz ### ############################################################################## ############################################################################## * checking for file ‘BrowserViz/DESCRIPTION’ ... OK * preparing ‘BrowserViz’: * checking DESCRIPTION meta-information ... OK * installing the package to build vignettes * creating vignettes ... OK * checking for LF line-endings in source and make files * checking for empty or unneeded directories * building ‘BrowserViz_1.0.1.tar.gz’