##############################################################################
##############################################################################
###
### Running command:
###
### /home/biocbuild/bbs-3.1-bioc/R/bin/R CMD INSTALL BeadDataPackR
###
##############################################################################
##############################################################################
* installing to library ‘/home/biocbuild/bbs-3.1-bioc/R/library’
* installing *source* package ‘BeadDataPackR’ ...
** libs
gcc -std=gnu99 -I/home/biocbuild/bbs-3.1-bioc/R/include -DNDEBUG -I/usr/local/include -fpic -g -O2 -Wall -c BeadDataPackR.c -o BeadDataPackR.o
gcc -std=gnu99 -I/home/biocbuild/bbs-3.1-bioc/R/include -DNDEBUG -I/usr/local/include -fpic -g -O2 -Wall -c R_init_BeadDataPackR.c -o R_init_BeadDataPackR.o
gcc -std=gnu99 -shared -L/home/biocbuild/bbs-3.1-bioc/R/lib -L/usr/local/lib -o BeadDataPackR.so BeadDataPackR.o R_init_BeadDataPackR.o -L/home/biocbuild/bbs-3.1-bioc/R/lib -lR
installing to /home/biocbuild/bbs-3.1-bioc/R/library/BeadDataPackR/libs
** R
** inst
** preparing package for lazy loading
** help
*** installing help indices
** building package indices
** installing vignettes
‘BeadDataPackR.rnw’
** testing if installed package can be loaded
* DONE (BeadDataPackR)