##############################################################################
##############################################################################
###
### Running command:
###
### rm -rf BRAIN.buildbin-libdir && mkdir BRAIN.buildbin-libdir && /Users/biocbuild/BBS/utils/build-universal.sh BRAIN_1.14.0.tar.gz /Library/Frameworks/R.framework/Versions/Current/Resources/bin/R BRAIN.buildbin-libdir
###
##############################################################################
##############################################################################
>>>>>>>
>>>>>>> INSTALLATION WITH 'R CMD INSTALL --preclean --no-multiarch --library=BRAIN.buildbin-libdir BRAIN_1.14.0.tar.gz'
>>>>>>>
* installing *source* package ‘BRAIN’ ...
** R
** inst
** preparing package for lazy loading
Creating a generic function for ‘nchar’ from package ‘base’ in package ‘S4Vectors’
** help
*** installing help indices
** building package indices
** installing vignettes
** testing if installed package can be loaded
Creating a generic function for ‘nchar’ from package ‘base’ in package ‘S4Vectors’
* DONE (BRAIN)