##############################################################################
##############################################################################
###
### Running command:
###
### cd BEAT.buildbin-libdir/BEAT && zip -r ../../BEAT_1.6.0.zip . & cd ../..
###
##############################################################################
##############################################################################
adding: data/ (256 bytes security) (stored 0%)
adding: data/BEAT.RData (188 bytes security) (deflated 0%)
adding: DESCRIPTION (188 bytes security) (deflated 34%)
adding: doc/ (256 bytes security) (stored 0%)
adding: doc/BEAT.pdf (188 bytes security) (deflated 12%)
adding: doc/BEAT.R (188 bytes security) (deflated 72%)
adding: doc/BEAT.Rnw (188 bytes security) (deflated 66%)
adding: doc/index.html (188 bytes security) (deflated 57%)
adding: extdata/ (256 bytes security) (stored 0%)
adding: extdata/bsConversionRate.py (188 bytes security) (deflated 53%)
adding: extdata/NonCpG.reference.txt (188 bytes security) (deflated 91%)
adding: extdata/NonCpG.sample.txt (188 bytes security) (deflated 91%)
adding: extdata/reference.positions.csv (188 bytes security) (deflated 81%)
adding: extdata/sample.positions.csv (188 bytes security) (deflated 82%)
adding: help/ (256 bytes security) (stored 0%)
adding: help/aliases.rds (188 bytes security) (stored 0%)
adding: help/AnIndex (188 bytes security) (deflated 50%)
adding: help/BEAT.rdb (188 bytes security) (deflated 0%)
adding: help/BEAT.rdx (188 bytes security) (stored 0%)
adding: help/paths.rds (188 bytes security) (stored 0%)
adding: html/ (256 bytes security) (stored 0%)
adding: html/00Index.html (188 bytes security) (deflated 64%)
adding: html/R.css (188 bytes security) (deflated 75%)
adding: INDEX (188 bytes security) (deflated 59%)
adding: MD5 (188 bytes security) (deflated 43%)
adding: Meta/ (256 bytes security) (stored 0%)
adding: Meta/data.rds (188 bytes security) (stored 0%)
adding: Meta/hsearch.rds (188 bytes security) (stored 0%)
adding: Meta/links.rds (188 bytes security) (stored 0%)
adding: Meta/nsInfo.rds (188 bytes security) (stored 0%)
adding: Meta/package.rds (188 bytes security) (stored 0%)
adding: Meta/Rd.rds (188 bytes security) (stored 0%)
adding: Meta/vignette.rds (188 bytes security) (stored 0%)
adding: NAMESPACE (188 bytes security) (deflated 36%)
adding: R/ (256 bytes security) (stored 0%)
adding: R/BEAT (188 bytes security) (deflated 41%)
adding: R/BEAT.rdb (188 bytes security) (deflated 3%)
adding: R/BEAT.rdx (188 bytes security) (stored 0%)