Back to the "Multiple platform build/check report" | A B C D E F G H I J K L M N O P Q R S T U V W [X] Y Z |
Package 466/467 | Hostname | OS / Arch | BUILD | CHECK | BUILD BIN | ||||
xps 1.12.1 Christian Stratowa
| lamb1 | Linux (openSUSE 11.3) / x86_64 | [ OK ] | OK | |||||
liverpool | Windows Server 2003 R2 (32-bit) / x64 | OK | WARNINGS | OK | |||||
gewurz | Windows Server 2008 R2 Enterprise SP1 (64-bit) / x64 | N O T S U P P O R T E D | |||||||
pelham | Mac OS X Leopard (10.5.8) / i386 | OK | OK | OK |
Package: xps |
Version: 1.12.1 |
Command: /home/biocbuild/bbs-2.8-bioc/R/bin/R CMD build --keep-empty-dirs --no-resave-data xps |
StartedAt: 2011-10-20 10:06:57 -0700 (Thu, 20 Oct 2011) |
EndedAt: 2011-10-20 10:09:15 -0700 (Thu, 20 Oct 2011) |
EllapsedTime: 138.2 seconds |
RetCode: 0 |
Status: OK |
PackageFile: xps_1.12.1.tar.gz |
PackageFileSize: 6.319 MiB |
* checking for file ‘xps/DESCRIPTION’ ... OK * preparing ‘xps’: * checking DESCRIPTION meta-information ... OK * cleaning src * installing the package to re-build vignettes * creating vignettes ... OK * cleaning src * checking for LF line-endings in source and make files * checking for empty or unneeded directories * building ‘xps_1.12.1.tar.gz’