Back to the "Multiple platform build/check report" | A B C D E F G H I J K L [M] N O P Q R S T U V W X Y Z |
Package 287/467 | Hostname | OS / Arch | BUILD | CHECK | BUILD BIN | ||||
methylumi 1.8.0 Sean Davis
| lamb1 | Linux (openSUSE 11.3) / x86_64 | OK | OK | |||||
liverpool | Windows Server 2003 R2 (32-bit) / x64 | OK | OK | OK | |||||
gewurz | Windows Server 2008 R2 Enterprise SP1 (64-bit) / x64 | OK | WARNINGS | [ OK ] | |||||
pelham | Mac OS X Leopard (10.5.8) / i386 | OK | OK | OK |
Package: methylumi |
Version: 1.8.0 |
Command: rm -rf methylumi.buildbin-libdir && mkdir methylumi.buildbin-libdir && D:\biocbld\bbs-2.8-bioc\R\bin\R.exe CMD INSTALL --build --no-multiarch --library=methylumi.buildbin-libdir methylumi_1.8.0.tar.gz |
StartedAt: 2011-10-20 17:38:06 -0700 (Thu, 20 Oct 2011) |
EndedAt: 2011-10-20 17:38:13 -0700 (Thu, 20 Oct 2011) |
EllapsedTime: 7.1 seconds |
RetCode: 0 |
Status: OK |
PackageFile: methylumi_1.8.0.zip |
PackageFileSize: 1.429 MiB |
* installing *source* package 'methylumi' ... ** R ** data ** inst ** preparing package for lazy loading Creating a new generic function for "summary" in "methylumi" ** help *** installing help indices ** building package indices ... ** testing if installed package can be loaded * MD5 sums packaged installation of 'methylumi' as methylumi_1.8.0.zip * DONE (methylumi)