* installing *source* package 'girafe' ...
** libs
x86_64-w64-mingw32-g++ -I"D:/biocbld/bbs-2.8-bioc/R/include" -O2 -Wall -c coverage.cpp -o coverage.o
x86_64-w64-mingw32-gcc -I"D:/biocbld/bbs-2.8-bioc/R/include" -O2 -Wall -std=gnu99 -c girafe_init.c -o girafe_init.o
x86_64-w64-mingw32-g++ -shared -s -static-libgcc -o girafe.dll tmp.def coverage.o girafe_init.o -LD:/biocbld/bbs-2.8-bioc/R/bin/x64 -lR
installing to D:/biocbld/bbs-2.8-bioc/meat/girafe.buildbin-libdir/girafe/libs/x64
** R
** inst
** preparing package for lazy loading
Creating a new generic function for "plot" in "girafe"
Creating a new generic function for "hist" in "girafe"
Creating a new generic function for "sample" in "girafe"
** help
*** installing help indices
** building package indices ...
** testing if installed package can be loaded
* MD5 sums
packaged installation of 'girafe' as girafe_1.4.0.zip
* DONE (girafe)