* installing *source* package 'genefu' ...
** R
** data
** moving datasets to lazyload DB
** inst
** preparing package for lazy loading
by using mclust, invoked on its own or through another package,
you accept the license agreement in the mclust LICENSE file
and at http://www.stat.washington.edu/mclust/license.txt
Loading required package: Biobase
Welcome to Bioconductor
Vignettes contain introductory material. To view, type
'browseVignettes()'. To cite Bioconductor, see
'citation("Biobase")' and for packages 'citation("pkgname")'.
** help
*** installing help indices
** building package indices ...
** testing if installed package can be loaded
by using mclust, invoked on its own or through another package,
you accept the license agreement in the mclust LICENSE file
and at http://www.stat.washington.edu/mclust/license.txt
* MD5 sums
packaged installation of 'genefu' as genefu_1.2.1.zip
* DONE (genefu)