Back to the "Multiple platform build/check report" | A B C D E [F] G H I J K L M N O P Q R S T U V W X Y Z |
Package 155/467 | Hostname | OS / Arch | BUILD | CHECK | BUILD BIN | ||||
flowQ 1.12.0 F. Hahne
| lamb1 | Linux (openSUSE 11.3) / x86_64 | OK | OK | |||||
liverpool | Windows Server 2003 R2 (32-bit) / x64 | OK | OK | OK | |||||
gewurz | Windows Server 2008 R2 Enterprise SP1 (64-bit) / x64 | OK | WARNINGS | OK | |||||
pelham | Mac OS X Leopard (10.5.8) / i386 | [ TIMEOUT ] | skipped | skipped |
Package: flowQ |
Version: 1.12.0 |
Command: /Library/Frameworks/R.framework/Versions/2.13/Resources/bin/R CMD build --keep-empty-dirs --no-resave-data flowQ |
StartedAt: 2011-10-20 10:53:28 -0700 (Thu, 20 Oct 2011) |
EndedAt: 2011-10-20 11:33:28 -0700 (Thu, 20 Oct 2011) |
EllapsedTime: 2400.4 seconds |
RetCode: None |
Status: TIMEOUT |
PackageFile: None |
PackageFileSize: NA |
* checking for file 'flowQ/DESCRIPTION' ... OK * preparing 'flowQ': * checking DESCRIPTION meta-information ... OK * installing the package to re-build vignettes * creating vignettes ...