Back to the "Multiple platform build/check report" | A [B] C D E F G H I J K L M N O P Q R S T U V W X Y Z |
Package 53/444 | Hostname | OS / Arch | BUILD | CHECK | BUILD BIN | ||||
biocLite 0.99.35 Biocore Team c/o BioC user list
| lamb1 | Linux (openSUSE 11.3) / x86_64 | OK | OK | |||||
liverpool | Windows Server 2003 R2 (32-bit) / x64 | OK | OK | OK | |||||
gewurz | Windows Server 2008 R2 Enterprise (64-bit) / x64 | [ OK ] | OK | OK | |||||
pelham | Mac OS X Leopard (10.5.8) / i386 | OK | OK | OK | |||||
petty | Mac OS X Snow Leopard (10.6.6) / i386 | OK | OK | OK |
Package: biocLite |
Version: 0.99.35 |
Command: chmod a+r biocLite -R && D:\biocbld\bbs-2.8-bioc\R\bin\R.exe CMD build biocLite |
StartedAt: 2011-03-14 18:15:34 -0700 (Mon, 14 Mar 2011) |
EndedAt: 2011-03-14 18:15:36 -0700 (Mon, 14 Mar 2011) |
EllapsedTime: 1.7 seconds |
RetCode: 0 |
Status: OK |
PackageFile: biocLite_0.99.35.tar.gz |
PackageFileSize: 3.54 KiB |
* checking for file 'biocLite/DESCRIPTION' ... OK * preparing 'biocLite': * checking DESCRIPTION meta-information ... OK * checking for LF line-endings in source and make files * checking for empty or unneeded directories * building 'biocLite_0.99.35.tar.gz'