Back to the "Multiple platform build/check report" | A [B] C D E F G H I J K L M N O P Q R S T U V W X Y Z |
Package 62/467 | Hostname | OS / Arch | BUILD | CHECK | BUILD BIN | ||||
bioDist 1.24.1 Biocore Team c/o BioC user list
| lamb1 | Linux (openSUSE 11.3) / x86_64 | OK | OK | |||||
liverpool | Windows Server 2003 R2 (32-bit) / x64 | OK | OK | OK | |||||
gewurz | Windows Server 2008 R2 Enterprise SP1 (64-bit) / x64 | [ OK ] | WARNINGS | OK | |||||
pelham | Mac OS X Leopard (10.5.8) / i386 | OK | OK | OK |
Package: bioDist |
Version: 1.24.1 |
Command: chmod a+r bioDist -R && D:\biocbld\bbs-2.8-bioc\R\bin\R.exe CMD build --keep-empty-dirs --no-resave-data bioDist |
StartedAt: 2011-10-20 10:19:39 -0700 (Thu, 20 Oct 2011) |
EndedAt: 2011-10-20 10:20:46 -0700 (Thu, 20 Oct 2011) |
EllapsedTime: 67.3 seconds |
RetCode: 0 |
Status: OK |
PackageFile: bioDist_1.24.1.tar.gz |
PackageFileSize: 9.463 KiB |
* checking for file 'bioDist/DESCRIPTION' ... OK * preparing 'bioDist': * checking DESCRIPTION meta-information ... OK * installing the package to re-build vignettes * creating vignettes ... OK * checking for LF line-endings in source and make files * checking for empty or unneeded directories * building 'bioDist_1.24.1.tar.gz'