* installing *source* package 'affy' ...
**********************************************
WARNING: this package has a configure script
It probably needs manual configuration
**********************************************
** libs
gcc -I"E:/biocbld/bbs-2.8-bioc/R/include" -DHAVE_ZLIB -I"E:/biocbld/bbs-2.8-bioc/R/library/preprocessCore/include" -O3 -Wall -std=gnu99 -c chipbackground.c -o chipbackground.o
gcc -I"E:/biocbld/bbs-2.8-bioc/R/include" -DHAVE_ZLIB -I"E:/biocbld/bbs-2.8-bioc/R/library/preprocessCore/include" -O3 -Wall -std=gnu99 -c getall_locations.c -o getall_locations.o
gcc -I"E:/biocbld/bbs-2.8-bioc/R/include" -DHAVE_ZLIB -I"E:/biocbld/bbs-2.8-bioc/R/library/preprocessCore/include" -O3 -Wall -std=gnu99 -c mas5calls.c -o mas5calls.o
gcc -I"E:/biocbld/bbs-2.8-bioc/R/include" -DHAVE_ZLIB -I"E:/biocbld/bbs-2.8-bioc/R/library/preprocessCore/include" -O3 -Wall -std=gnu99 -c rma2.c -o rma2.o
gcc -I"E:/biocbld/bbs-2.8-bioc/R/include" -DHAVE_ZLIB -I"E:/biocbld/bbs-2.8-bioc/R/library/preprocessCore/include" -O3 -Wall -std=gnu99 -c rma_common.c -o rma_common.o
gcc -shared -s -static-libgcc -o affy.dll tmp.def chipbackground.o getall_locations.o mas5calls.o rma2.o rma_common.o -lRzlib -LE:/biocbld/bbs-2.8-bioc/R/bin/i386 -lR
installing to E:/biocbld/bbs-2.8-bioc/meat/affy.buildbin-libdir/affy/libs/i386
** R
** data
** demo
** inst
** preparing package for lazy loading
Creating a new generic function for "open" in "affy"
Creating a new generic function for "close" in "affy"
Creating a new generic function for "colnames" in "affy"
Creating a new generic function for "barplot" in "affy"
** help
*** installing help indices
** building package indices ...
** testing if installed package can be loaded
* MD5 sums
packaged installation of 'affy' as affy_1.30.0.zip
* DONE (affy)