* checking for file 'GeneticsBase/DESCRIPTION' ... OK
* preparing 'GeneticsBase':
* checking DESCRIPTION meta-information ... OK
* cleaning src
* installing the package to re-build vignettes
-----------------------------------
* installing *source* package 'GeneticsBase' ...
** libs
x86_64-w64-mingw32-g++ -I"D:/biocbld/BBS-2˜1.8-B/R/include" -O2 -Wall -c LdMax.cpp -o LdMax.o
x86_64-w64-mingw32-g++ -I"D:/biocbld/BBS-2˜1.8-B/R/include" -O2 -Wall -c R_bitArrayVector.cpp -o R_bitArrayVector.o
R_bitArrayVector.cpp: In function 'SEXPREC* finalizeBitArrayVector(SEXPREC*)':
R_bitArrayVector.cpp:36:3: warning: no return statement in function returning non-void
R_bitArrayVector.cpp: In function 'int test()':
R_bitArrayVector.cpp:145:28: warning: comparison between signed and unsigned integer expressions
R_bitArrayVector.cpp:157:1: warning: no return statement in function returning non-void
x86_64-w64-mingw32-g++ -I"D:/biocbld/BBS-2˜1.8-B/R/include" -O2 -Wall -c bAV.cpp -o bAV.o
bAV.cpp:1:1: error: stray '\377' in program
bAV.cpp:1:1: error: stray '\376' in program
bAV.cpp:1:14: warning: null character(s) ignored
bAV.cpp:1:16: warning: null character(s) ignored
bAV.cpp:1:18: warning: null character(s) ignored
bAV.cpp:1:20: warning: null character(s) ignored
bAV.cpp:1:22: warning: null character(s) ignored
bAV.cpp:1:24: warning: null character(s) ignored
bAV.cpp:1:26: warning: null character(s) ignored
bAV.cpp:1:28: warning: null character(s) ignored
bAV.cpp:1:30: warning: null character(s) ignored
bAV.cpp:1:32: warning: null character(s) ignored
bAV.cpp:1:34: warning: null character(s) ignored
bAV.cpp:1:36: warning: null character(s) ignored
bAV.cpp:1:38: warning: null character(s) ignored
bAV.cpp:1:40: warning: null character(s) ignored
bAV.cpp:1:42: warning: null character(s) ignored
bAV.cpp:1:44: warning: null character(s) ignored
bAV.cpp:1:46: warning: null character(s) ignored
bAV.cpp:1:48: warning: null character(s) ignored
bAV.cpp:1:1: error: expected unqualified-id before '!' token
make: *** [bAV.o] Error 1
ERROR: compilation failed for package 'GeneticsBase'
* removing 'D:/biocbld/bbs-2.8-bioc/tmpdir/RtmpoXGgAb/Rinst17337d17/GeneticsBase'
-----------------------------------
ERROR: package installation failed