Back to the "Multiple platform build/check report" | A B C D E F [G] H I J K L M N O P Q R S T U V W X Y Z |
Package 214/467 | Hostname | OS / Arch | BUILD | CHECK | BUILD BIN | ||||
GSVA 1.0.1 Justin Guinney
| lamb1 | Linux (openSUSE 11.3) / x86_64 | OK | OK | |||||
liverpool | Windows Server 2003 R2 (32-bit) / x64 | OK | OK | OK | |||||
gewurz | Windows Server 2008 R2 Enterprise SP1 (64-bit) / x64 | OK | WARNINGS | OK | |||||
pelham | Mac OS X Leopard (10.5.8) / i386 | [ OK ] | OK | ERROR |
Package: GSVA |
Version: 1.0.1 |
Command: /Library/Frameworks/R.framework/Versions/2.13/Resources/bin/R CMD build --keep-empty-dirs --no-resave-data GSVA |
StartedAt: 2011-10-20 12:57:54 -0700 (Thu, 20 Oct 2011) |
EndedAt: 2011-10-20 12:59:31 -0700 (Thu, 20 Oct 2011) |
EllapsedTime: 96.2 seconds |
RetCode: 0 |
Status: OK |
PackageFile: GSVA_1.0.1.tar.gz |
PackageFileSize: 1.749 MiB |
* checking for file 'GSVA/DESCRIPTION' ... OK * preparing 'GSVA': * checking DESCRIPTION meta-information ... OK * cleaning src * running cleanup * installing the package to re-build vignettes * creating vignettes ... OK * cleaning src * running cleanup * checking for LF line-endings in source and make files * checking for empty or unneeded directories * building 'GSVA_1.0.1.tar.gz'