Back to the "Multiple platform build/check report" | A B C D E F [G] H I J K L M N O P Q R S T U V W X Y Z |
Package 196/467 | Hostname | OS / Arch | BUILD | CHECK | BUILD BIN | ||||
GGBase 3.12.0 Vince Carey
| lamb1 | Linux (openSUSE 11.3) / x86_64 | OK | OK | |||||
liverpool | Windows Server 2003 R2 (32-bit) / x64 | OK | OK | OK | |||||
gewurz | Windows Server 2008 R2 Enterprise SP1 (64-bit) / x64 | OK | WARNINGS | OK | |||||
pelham | Mac OS X Leopard (10.5.8) / i386 | OK | OK | [ OK ] |
Package: GGBase |
Version: 3.12.0 |
Command: rm -rf GGBase.buildbin-libdir && mkdir GGBase.buildbin-libdir && /Users/biocbuild/BBS/utils/build-universal.sh GGBase_3.12.0.tar.gz /Library/Frameworks/R.framework/Versions/2.13/Resources/bin/R GGBase.buildbin-libdir |
StartedAt: 2011-10-20 18:14:25 -0700 (Thu, 20 Oct 2011) |
EndedAt: 2011-10-20 18:14:48 -0700 (Thu, 20 Oct 2011) |
EllapsedTime: 22.8 seconds |
RetCode: 0 |
Status: OK |
PackageFile: GGBase_3.12.0.tgz |
PackageFileSize: 853.6 KiB |
>>>>>>> >>>>>>> INSTALLATION WITH 'R CMD INSTALL --preclean --library=GGBase.buildbin-libdir GGBase_3.12.0.tar.gz' >>>>>>> * installing *source* package 'GGBase' ... ** R ** data ** inst ** preparing package for lazy loading ** help *** installing help indices ** building package indices ... ** testing if installed package can be loaded * DONE (GGBase)