Back to the "Multiple platform build/check report" | A B [C] D E F G H I J K L M N O P Q R S T U V W X Y Z |
Package 91/444 | Hostname | OS / Arch | BUILD | CHECK | BUILD BIN | ||||
CoCiteStats 1.23.0 Biocore Team c/o BioC user list
| lamb1 | Linux (openSUSE 11.3) / x86_64 | OK | OK | |||||
liverpool | Windows Server 2003 R2 (32-bit) / x64 | OK | OK | OK | |||||
gewurz | Windows Server 2008 R2 Enterprise (64-bit) / x64 | OK | OK | OK | |||||
pelham | Mac OS X Leopard (10.5.8) / i386 | OK | OK | OK | |||||
petty | Mac OS X Snow Leopard (10.6.6) / i386 | OK | OK | [ OK ] |
Package: CoCiteStats |
Version: 1.23.0 |
Command: /Users/biocbuild/BBS/utils/build-universal.sh CoCiteStats_1.23.0.tar.gz /Library/Frameworks/R.framework/Versions/2.13/Resources/bin/R CoCiteStats.buildbin-libdir |
StartedAt: 2011-03-17 17:56:24 -0700 (Thu, 17 Mar 2011) |
EndedAt: 2011-03-17 17:56:29 -0700 (Thu, 17 Mar 2011) |
EllapsedTime: 4.9 seconds |
RetCode: 0 |
Status: OK |
PackageFile: CoCiteStats_1.23.0.tgz |
PackageFileSize: 24.54 KiB |
>>>>>>> >>>>>>> INSTALLATION WITH 'R CMD INSTALL --preclean --library=CoCiteStats.buildbin-libdir CoCiteStats_1.23.0.tar.gz' >>>>>>> * installing *source* package 'CoCiteStats' ... ** R ** preparing package for lazy loading Loading required package: AnnotationDbi Loading required package: Biobase Welcome to Bioconductor Vignettes contain introductory material. To view, type 'browseVignettes()'. To cite Bioconductor, see 'citation("Biobase")' and for packages 'citation("pkgname")'. Loading required package: DBI ** help *** installing help indices ** building package indices ... ** testing if installed package can be loaded * DONE (CoCiteStats)