Back to the "Multiple platform build/check report" | A B [C] D E F G H I J K L M N O P Q R S T U V W X Y Z |
Package 86/444 | Hostname | OS / Arch | BUILD | CHECK | BUILD BIN | ||||
Clonality 0.99.1 Irina Ostrovnaya
| lamb1 | Linux (openSUSE 11.3) / x86_64 | OK | OK | |||||
liverpool | Windows Server 2003 R2 (32-bit) / x64 | OK | OK | OK | |||||
gewurz | Windows Server 2008 R2 Enterprise (64-bit) / x64 | OK | OK | OK | |||||
pelham | Mac OS X Leopard (10.5.8) / i386 | OK | OK | OK | |||||
petty | Mac OS X Snow Leopard (10.6.6) / i386 | [ OK ] | OK | OK |
Package: Clonality |
Version: 0.99.1 |
Command: /Library/Frameworks/R.framework/Versions/2.13/Resources/bin/R CMD build Clonality |
StartedAt: 2011-03-17 15:09:33 -0700 (Thu, 17 Mar 2011) |
EndedAt: 2011-03-17 15:12:00 -0700 (Thu, 17 Mar 2011) |
EllapsedTime: 147.8 seconds |
RetCode: 0 |
Status: OK |
PackageFile: Clonality_0.99.1.tar.gz |
PackageFileSize: 190.8 KiB |
* checking for file 'Clonality/DESCRIPTION' ... OK * preparing 'Clonality': * checking DESCRIPTION meta-information ... OK * installing the package to re-build vignettes * creating vignettes ... OK * checking for LF line-endings in source and make files * checking for empty or unneeded directories * building 'Clonality_0.99.1.tar.gz'