Back to the "Multiple platform build/check report" | A B [C] D E F G H I J K L M N O P Q R S T U V W X Y Z |
Package 83/467 | Hostname | OS / Arch | BUILD | CHECK | BUILD BIN | ||||
CGHregions 1.10.0 Sjoerd Vosse
| lamb1 | Linux (openSUSE 11.3) / x86_64 | OK | OK | |||||
liverpool | Windows Server 2003 R2 (32-bit) / x64 | OK | OK | OK | |||||
gewurz | Windows Server 2008 R2 Enterprise SP1 (64-bit) / x64 | [ OK ] | WARNINGS | OK | |||||
pelham | Mac OS X Leopard (10.5.8) / i386 | OK | OK | OK |
Package: CGHregions |
Version: 1.10.0 |
Command: chmod a+r CGHregions -R && D:\biocbld\bbs-2.8-bioc\R\bin\R.exe CMD build --keep-empty-dirs --no-resave-data CGHregions |
StartedAt: 2011-10-20 11:11:30 -0700 (Thu, 20 Oct 2011) |
EndedAt: 2011-10-20 11:11:43 -0700 (Thu, 20 Oct 2011) |
EllapsedTime: 13.3 seconds |
RetCode: 0 |
Status: OK |
PackageFile: CGHregions_1.10.0.tar.gz |
PackageFileSize: 11.12 KiB |
* checking for file 'CGHregions/DESCRIPTION' ... OK * preparing 'CGHregions': * checking DESCRIPTION meta-information ... OK * installing the package to re-build vignettes * creating vignettes ... OK * checking for LF line-endings in source and make files * checking for empty or unneeded directories * building 'CGHregions_1.10.0.tar.gz'