Back to the "Multiple platform build/check report" | A B C D E F G H I J K L M N O P Q R [S] T U V W X Y Z |
Package 396/436 | Hostname | OS / Arch | BUILD | CHECK | BUILD BIN | ||||
snpMatrix 1.15.7 David Clayton
| lamb2 | Linux (openSUSE 11.2) / x86_64 | OK | OK | |||||
liverpool | Windows Server 2003 R2 (32-bit) / x64 | OK | OK | OK | |||||
gewurz | Windows Server 2008 R2 Enterprise (64-bit) / x64 | [ OK ] | OK | OK | |||||
pelham | Mac OS X Leopard (10.5.8) / i386 | OK | OK | OK | |||||
petty | Mac OS X Snow Leopard (10.6.4) / i386 | OK | OK | OK |
Package: snpMatrix |
Version: 1.15.7 |
Command: chmod a+r snpMatrix -R && D:\biocbld\bbs-2.8-bioc\R\bin\R.exe CMD build snpMatrix |
StartedAt: 2011-02-24 15:53:33 -0800 (Thu, 24 Feb 2011) |
EndedAt: 2011-02-24 15:55:51 -0800 (Thu, 24 Feb 2011) |
EllapsedTime: 137.4 seconds |
RetCode: 0 |
Status: OK |
PackageFile: snpMatrix_1.15.7.tar.gz |
PackageFileSize: 8.794 MiB |
* checking for file 'snpMatrix/DESCRIPTION' ... OK * preparing 'snpMatrix': * checking DESCRIPTION meta-information ... OK * cleaning src * installing the package to re-build vignettes * creating vignettes ... OK * cleaning src * checking for LF line-endings in source and make files * checking for empty or unneeded directories * building 'snpMatrix_1.15.7.tar.gz'