Back to the "Multiple platform build/check report" | A B C D E F G H I J K L M N O P Q R [S] T U V W X Y Z |
Package 388/436 | Hostname | OS / Arch | BUILD | CHECK | BUILD BIN | ||||
sizepower 1.21.0 Weiliang Qiu
| lamb2 | Linux (openSUSE 11.2) / x86_64 | OK | OK | |||||
liverpool | Windows Server 2003 R2 (32-bit) / x64 | OK | OK | OK | |||||
gewurz | Windows Server 2008 R2 Enterprise (64-bit) / x64 | OK | OK | OK | |||||
pelham | Mac OS X Leopard (10.5.8) / i386 | OK | OK | [ OK ] | |||||
petty | Mac OS X Snow Leopard (10.6.4) / i386 | OK | OK | OK |
Package: sizepower |
Version: 1.21.0 |
Command: /Users/biocbuild/BBS/utils/build-universal.sh sizepower_1.21.0.tar.gz /Library/Frameworks/R.framework/Versions/2.13/Resources/bin/R sizepower.buildbin-libdir |
StartedAt: 2011-02-24 22:18:32 -0800 (Thu, 24 Feb 2011) |
EndedAt: 2011-02-24 22:18:34 -0800 (Thu, 24 Feb 2011) |
EllapsedTime: 1.8 seconds |
RetCode: 0 |
Status: OK |
PackageFile: sizepower_1.21.0.tgz |
PackageFileSize: 129.9 KiB |
>>>>>>> >>>>>>> INSTALLATION WITH 'R CMD INSTALL --preclean --library=sizepower.buildbin-libdir sizepower_1.21.0.tar.gz' >>>>>>> * installing *source* package ‘sizepower’ ... ** R ** inst ** preparing package for lazy loading ** help *** installing help indices ** building package indices ... ** testing if installed package can be loaded * DONE (sizepower)