Back to the "Multiple platform build/check report" A  B  C  D  E  F  G  H  I  J  K  L  M  N  O [P] Q  R  S  T  U  V  W  X  Y  Z 

Package 311/426HostnameOS / ArchBUILDCHECKBUILD BIN
pint 1.3.3
Olli-Pekka Huovilainen
Snapshot Date: 2010-12-04 11:23:19 -0800 (Sat, 04 Dec 2010)
URL: https://hedgehog.fhcrc.org/bioconductor/trunk/madman/Rpacks/pint
Last Changed Rev: 50815 / Revision: 51227
Last Changed Date: 2010-11-11 01:31:35 -0800 (Thu, 11 Nov 2010)
lamb2 Linux (openSUSE 11.2) / x86_64  OK  OK 
liverpool Windows Server 2003 R2 (32-bit) / x64  OK  OK [ OK ]
gewurz Windows Server 2008 R2 Enterprise (64-bit) / x64  ERROR  skipped  skipped 
pelham Mac OS X Leopard (10.5.8) / i386  OK  OK  OK 
petty Mac OS X Snow Leopard (10.6.4) / i386  ERROR  skipped  skipped 

Summary

Package: pint
Version: 1.3.3
Command: E:\biocbld\bbs-2.8-bioc\R\bin\R.exe CMD INSTALL --build --library=pint.buildbin-libdir pint_1.3.3.tar.gz
StartedAt: 2010-12-04 20:23:11 -0800 (Sat, 04 Dec 2010)
EndedAt: 2010-12-04 20:23:16 -0800 (Sat, 04 Dec 2010)
EllapsedTime: 4.7 seconds
RetCode: 0
Status:  OK  
PackageFile: pint_1.3.3.zip
PackageFileSize: 687.3 KiB

Command output

* installing *source* package 'pint' ...

  Using auto-selected zip option '--use-zip-data'

** R
** data
** inst
** preparing package for lazy loading
Loading required package: lattice

Attaching package: 'Matrix'

The following object(s) are masked from 'package:base':

    det

Creating a new generic function for "as.data.frame" in "pint"
** help
*** installing help indices
** building package indices ...
** testing if installed package can be loaded

pint Copyright (C) 2008-2010 Olli-Pekka Huovilainen and Leo Lahti.
This program comes with ABSOLUTELY NO WARRANTY.
This is free software, and you are welcome to redistribute it under GNU GPL >=2, see the licensing terms for details.

* MD5 sums
packaged installation of 'pint' as pint_1.3.3.zip

* DONE (pint)