Back to the "Multiple platform build/check report" | A B C D E F [G] H I J K L M N O P Q R S T U V W X Y Z |
Package 186/436 | Hostname | OS / Arch | BUILD | CHECK | BUILD BIN | ||||
goProfiles 1.13.1 Alex Sanchez
| lamb2 | Linux (openSUSE 11.2) / x86_64 | OK | OK | |||||
liverpool | Windows Server 2003 R2 (32-bit) / x64 | OK | OK | OK | |||||
gewurz | Windows Server 2008 R2 Enterprise (64-bit) / x64 | OK | OK | OK | |||||
pelham | Mac OS X Leopard (10.5.8) / i386 | OK | OK | [ OK ] | |||||
petty | Mac OS X Snow Leopard (10.6.4) / i386 | OK | OK | OK |
Package: goProfiles |
Version: 1.13.1 |
Command: /Users/biocbuild/BBS/utils/build-universal.sh goProfiles_1.13.1.tar.gz /Library/Frameworks/R.framework/Versions/2.13/Resources/bin/R goProfiles.buildbin-libdir |
StartedAt: 2011-02-24 22:04:47 -0800 (Thu, 24 Feb 2011) |
EndedAt: 2011-02-24 22:04:52 -0800 (Thu, 24 Feb 2011) |
EllapsedTime: 4.8 seconds |
RetCode: 0 |
Status: OK |
PackageFile: goProfiles_1.13.1.tgz |
PackageFileSize: 347 KiB |
>>>>>>> >>>>>>> INSTALLATION WITH 'R CMD INSTALL --preclean --library=goProfiles.buildbin-libdir goProfiles_1.13.1.tar.gz' >>>>>>> * installing *source* package ‘goProfiles’ ... ** R ** data ** inst ** preparing package for lazy loading Welcome to Bioconductor Vignettes contain introductory material. To view, type 'browseVignettes()'. To cite Bioconductor, see 'citation("Biobase")' and for packages 'citation(pkgname)'. Loading required package: DBI ** help *** installing help indices ** building package indices ... ** testing if installed package can be loaded * DONE (goProfiles)