Back to the "Multiple platform build/check report" | A B C D E F [G] H I J K L M N O P Q R S T U V W X Y Z |
Package 153/436 | Hostname | OS / Arch | BUILD | CHECK | BUILD BIN | ||||
gene2pathway 1.9.1 Holger Froehlich
| lamb2 | Linux (openSUSE 11.2) / x86_64 | OK | OK | |||||
liverpool | Windows Server 2003 R2 (32-bit) / x64 | ERROR | skipped | skipped | |||||
gewurz | Windows Server 2008 R2 Enterprise (64-bit) / x64 | OK | WARNINGS | OK | |||||
pelham | Mac OS X Leopard (10.5.8) / i386 | OK | OK | [ OK ] | |||||
petty | Mac OS X Snow Leopard (10.6.4) / i386 | OK | OK | OK |
Package: gene2pathway |
Version: 1.9.1 |
Command: /Users/biocbuild/BBS/utils/build-universal.sh gene2pathway_1.9.1.tar.gz /Library/Frameworks/R.framework/Versions/2.13/Resources/bin/R gene2pathway.buildbin-libdir |
StartedAt: 2011-02-24 22:02:56 -0800 (Thu, 24 Feb 2011) |
EndedAt: 2011-02-24 22:03:08 -0800 (Thu, 24 Feb 2011) |
EllapsedTime: 11.4 seconds |
RetCode: 0 |
Status: OK |
PackageFile: gene2pathway_1.9.1.tgz |
PackageFileSize: 6.142 MiB |
>>>>>>> >>>>>>> INSTALLATION WITH 'R CMD INSTALL --preclean --library=gene2pathway.buildbin-libdir gene2pathway_1.9.1.tar.gz' >>>>>>> * installing *source* package ‘gene2pathway’ ... ** R ** data ** inst ** preparing package for lazy loading Loading required package: graph Loading required package: Biobase Welcome to Bioconductor Vignettes contain introductory material. To view, type 'browseVignettes()'. To cite Bioconductor, see 'citation("Biobase")' and for packages 'citation(pkgname)'. Loading required package: DBI Loading required package: hgu95av2.db Loading required package: org.Hs.eg.db ** help *** installing help indices ** building package indices ... ** testing if installed package can be loaded * DONE (gene2pathway)