Back to the "Multiple platform build/check report" | A B C D E [F] G H I J K L M N O P Q R S T U V W X Y Z |
Package 145/436 | Hostname | OS / Arch | BUILD | CHECK | BUILD BIN | ||||
frma 1.3.10 Matthew N. McCall
| lamb2 | Linux (openSUSE 11.2) / x86_64 | OK | OK | |||||
liverpool | Windows Server 2003 R2 (32-bit) / x64 | OK | OK | OK | |||||
gewurz | Windows Server 2008 R2 Enterprise (64-bit) / x64 | OK | OK | [ OK ] | |||||
pelham | Mac OS X Leopard (10.5.8) / i386 | OK | OK | OK | |||||
petty | Mac OS X Snow Leopard (10.6.4) / i386 | OK | OK | OK |
Package: frma |
Version: 1.3.10 |
Command: D:\biocbld\bbs-2.8-bioc\R\bin\R.exe CMD INSTALL --build --library=frma.buildbin-libdir frma_1.3.10.tar.gz |
StartedAt: 2011-02-24 22:29:14 -0800 (Thu, 24 Feb 2011) |
EndedAt: 2011-02-24 22:29:23 -0800 (Thu, 24 Feb 2011) |
EllapsedTime: 8.9 seconds |
RetCode: 0 |
Status: OK |
PackageFile: frma_1.3.10.zip |
PackageFileSize: 189.7 KiB |
* installing *source* package 'frma' ... ** R ** inst ** preparing package for lazy loading Welcome to Bioconductor Vignettes contain introductory material. To view, type 'browseVignettes()'. To cite Bioconductor, see 'citation("Biobase")' and for packages 'citation(pkgname)'. ** help *** installing help indices ** building package indices ... ** testing if installed package can be loaded * MD5 sums packaged installation of 'frma' as frma_1.3.10.zip * DONE (frma)