Back to the "Multiple platform build/check report" | [A] B C D E F G H I J K L M N O P Q R S T U V W X Y Z |
Package 13/436 | Hostname | OS / Arch | BUILD | CHECK | BUILD BIN | ||||
affyILM 1.3.0 Myriam Kroll and Fabrice Berger
| lamb2 | Linux (openSUSE 11.2) / x86_64 | OK | OK | |||||
liverpool | Windows Server 2003 R2 (32-bit) / x64 | OK | OK | OK | |||||
gewurz | Windows Server 2008 R2 Enterprise (64-bit) / x64 | OK | OK | OK | |||||
pelham | Mac OS X Leopard (10.5.8) / i386 | [ OK ] | WARNINGS | OK | |||||
petty | Mac OS X Snow Leopard (10.6.4) / i386 | OK | WARNINGS | OK |
Package: affyILM |
Version: 1.3.0 |
Command: /Library/Frameworks/R.framework/Versions/2.13/Resources/bin/R CMD build affyILM |
StartedAt: 2011-02-24 17:17:22 -0800 (Thu, 24 Feb 2011) |
EndedAt: 2011-02-24 17:18:02 -0800 (Thu, 24 Feb 2011) |
EllapsedTime: 39.8 seconds |
RetCode: 0 |
Status: OK |
PackageFile: affyILM_1.3.0.tar.gz |
PackageFileSize: 142.6 KiB |
* checking for file ‘affyILM/DESCRIPTION’ ... OK * preparing ‘affyILM’: * checking DESCRIPTION meta-information ... OK * cleaning src * installing the package to re-build vignettes * creating vignettes ... OK * cleaning src * checking for LF line-endings in source and make files * checking for empty or unneeded directories * building ‘affyILM_1.3.0.tar.gz’