Back to the "Multiple platform build/check report" | A B C D E F G H I J K L M N O P Q [R] S T U V W X Y Z |
Package 341/436 | Hostname | OS / Arch | BUILD | CHECK | BUILD BIN | ||||
RdbiPgSQL 1.25.1 Jianhua Zhang
| lamb2 | Linux (openSUSE 11.2) / x86_64 | OK | OK | |||||
liverpool | Windows Server 2003 R2 (32-bit) / x64 | N O T S U P P O R T E D | |||||||
gewurz | Windows Server 2008 R2 Enterprise (64-bit) / x64 | N O T S U P P O R T E D | |||||||
pelham | Mac OS X Leopard (10.5.8) / i386 | [ OK ] | OK | OK | |||||
petty | Mac OS X Snow Leopard (10.6.4) / i386 | OK | ERROR | ERROR |
Package: RdbiPgSQL |
Version: 1.25.1 |
Command: /Library/Frameworks/R.framework/Versions/2.13/Resources/bin/R CMD build RdbiPgSQL |
StartedAt: 2011-02-24 13:52:07 -0800 (Thu, 24 Feb 2011) |
EndedAt: 2011-02-24 13:52:09 -0800 (Thu, 24 Feb 2011) |
EllapsedTime: 1.8 seconds |
RetCode: 0 |
Status: OK |
PackageFile: RdbiPgSQL_1.25.1.tar.gz |
PackageFileSize: 27.4 KiB |
* checking for file ‘RdbiPgSQL/DESCRIPTION’ ... OK * preparing ‘RdbiPgSQL’: * checking DESCRIPTION meta-information ... OK * cleaning src * running cleanup * checking for LF line-endings in source and make files * checking for empty or unneeded directories * building ‘RdbiPgSQL_1.25.1.tar.gz’