Back to the "Multiple platform build/check report" | A B [C] D E F G H I J K L M N O P Q R S T U V W X Y Z |
Package 99/436 | Hostname | OS / Arch | BUILD | CHECK | BUILD BIN | ||||
CRImage 1.1.0 Henrik Failmezger
| lamb2 | Linux (openSUSE 11.2) / x86_64 | OK | OK | |||||
liverpool | Windows Server 2003 R2 (32-bit) / x64 | OK | OK | [ OK ] | |||||
gewurz | Windows Server 2008 R2 Enterprise (64-bit) / x64 | N O T S U P P O R T E D | |||||||
pelham | Mac OS X Leopard (10.5.8) / i386 | N O T S U P P O R T E D | |||||||
petty | Mac OS X Snow Leopard (10.6.4) / i386 | N O T S U P P O R T E D |
Package: CRImage |
Version: 1.1.0 |
Command: E:\biocbld\bbs-2.8-bioc\R\bin\R.exe CMD INSTALL --build --library=CRImage.buildbin-libdir CRImage_1.1.0.tar.gz |
StartedAt: 2011-02-24 20:25:59 -0800 (Thu, 24 Feb 2011) |
EndedAt: 2011-02-24 20:26:09 -0800 (Thu, 24 Feb 2011) |
EllapsedTime: 9.8 seconds |
RetCode: 0 |
Status: OK |
PackageFile: CRImage_1.1.0.zip |
PackageFileSize: 8.261 MiB |
* installing *source* package 'CRImage' ... ** R ** inst ** preparing package for lazy loading Loading required package: abind ** help *** installing help indices ** building package indices ... ** testing if installed package can be loaded * MD5 sums packaged installation of 'CRImage' as CRImage_1.1.0.zip * DONE (CRImage)