Back to the "Multiple platform build/check report" | A [B] C D E F G H I J K L M N O P Q R S T U V W X Y Z |
Package 59/436 | Hostname | OS / Arch | BUILD | CHECK | BUILD BIN | ||||
Biostrings 2.19.11 H. Pages
| lamb2 | Linux (openSUSE 11.2) / x86_64 | [ OK ] | OK | |||||
liverpool | Windows Server 2003 R2 (32-bit) / x64 | OK | OK | OK | |||||
gewurz | Windows Server 2008 R2 Enterprise (64-bit) / x64 | OK | OK | OK | |||||
pelham | Mac OS X Leopard (10.5.8) / i386 | OK | WARNINGS | OK | |||||
petty | Mac OS X Snow Leopard (10.6.4) / i386 | OK | WARNINGS | OK |
Package: Biostrings |
Version: 2.19.11 |
Command: /home/biocbuild/bbs-2.8-bioc/R/bin/R CMD build Biostrings |
StartedAt: 2011-02-24 13:22:41 -0800 (Thu, 24 Feb 2011) |
EndedAt: 2011-02-24 13:25:19 -0800 (Thu, 24 Feb 2011) |
EllapsedTime: 158.1 seconds |
RetCode: 0 |
Status: OK |
PackageFile: Biostrings_2.19.11.tar.gz |
PackageFileSize: 1.001 MiB |
* checking for file ‘Biostrings/DESCRIPTION’ ... OK * preparing ‘Biostrings’: * checking DESCRIPTION meta-information ... OK * cleaning src * installing the package to re-build vignettes * creating vignettes ... OK * cleaning src * checking for LF line-endings in source and make files * checking for empty or unneeded directories * building ‘Biostrings_2.19.11.tar.gz’