Back to the "Multiple platform build/check report" |
Package 15/65 | Hostname | OS / Arch | BUILD | CHECK | BUILD BIN | ||||
encoDnaseI 0.1-1 VJ Carey
| wilson1 | Linux (openSUSE 11.1) / x86_64 | [ ERROR ] | skipped | |||||
liverpool | Windows Server 2003 R2 (32-bit) / x64 | ERROR | skipped | skipped | |||||
pitt | Mac OS X Tiger (10.4.11) / i386 | ERROR | skipped | skipped | |||||
pelham | Mac OS X Leopard (10.5.7) / i386 | ERROR | skipped | skipped |
Package: encoDnaseI |
Version: 0.1-1 |
Command: /home/biocbuild/bbs-2.4-bioc/R/bin/R CMD build encoDnaseI |
StartedAt: 2009-08-10 01:26:59 -0700 (Mon, 10 Aug 2009) |
EndedAt: 2009-08-10 01:27:00 -0700 (Mon, 10 Aug 2009) |
EllapsedTime: 1.5 seconds |
RetCode: 1 |
Status: ERROR |
PackageFile: None |
PackageFileSize: NA |
* checking for file 'encoDnaseI/DESCRIPTION' ... OK * preparing 'encoDnaseI': * checking DESCRIPTION meta-information ... OK * installing the package to re-build vignettes * Installing *source* package 'encoDnaseI' ... ** R ** data ** inst ** preparing package for lazy loading Error : package 'Biobase' 2.4.1 was found, but >= 2.5.5 is required by 'encoDnaseI' ERROR: lazy loading failed for package 'encoDnaseI' * Removing '/tmp/Rinst951297980/encoDnaseI' ERROR Installation failed. Removing '/tmp/Rinst951297980'