Back to the "Multiple platform build/check report" | A B C D E F G H I J K L [M] N O P Q R S T U V W X Y Z |
Package 159/294 | Hostname | OS / Arch | BUILD | CHECK | BUILD BIN | |||||
maCorrPlot 1.12.0 Alexander Ploner
| wilson2 | Linux (openSUSE 11.1) / x86_64 | OK | WARNINGS | ||||||
liverpool | Windows Server 2003 R2 (32-bit) / x64 | OK | WARNINGS | OK | ||||||
pitt | Mac OS X Tiger (10.4.11) / i386 | OK | WARNINGS | [ OK ] | ||||||
pelham | Mac OS X Leopard (10.5.6) / i386 | OK | WARNINGS | OK |
Package: maCorrPlot |
Version: 1.12.0 |
Command: /Users/biocbuild/BBS/utils/build-universal.sh maCorrPlot_1.12.0.tar.gz /Library/Frameworks/R.framework/Versions/2.8/Resources/bin/R maCorrPlot.buildbin-libdir |
StartedAt: 2009-04-18 18:31:15 -0700 (Sat, 18 Apr 2009) |
EndedAt: 2009-04-18 18:31:19 -0700 (Sat, 18 Apr 2009) |
EllapsedTime: 4.8 seconds |
RetCode: 0 |
Status: OK |
PackageFile: maCorrPlot_1.12.0.tgz |
PackageFileSize: 1.097 MiB |
INSTALLATION WITH 'R CMD INSTALL --library=maCorrPlot.buildbin-libdir maCorrPlot_1.12.0.tar.gz' * Installing *source* package 'maCorrPlot' ... ** R ** data ** inst ** preparing package for lazy loading Loading required package: lattice ** help >>> Building/Updating help pages for package 'maCorrPlot' Formats: text html latex example WARNING: found \itemize inside \value in file 'CorrSample.Rd' CorrSample text html latex example WARNING: found \itemize inside \value in file 'CutCI.Rd' CutCI text html latex example oligodata text html latex example plot.corr.sample text html latex example ** building package indices ... * DONE (maCorrPlot)