Back to the "Multiple platform build/check report" |
This page was generated on 2014-04-04 17:29:21 -0700 (Fri, 04 Apr 2014).
Package 62/181 | Hostname | OS / Arch | BUILD | CHECK | BUILD BIN | ||||
flowFitExampleData 0.99.2 Davide Rambaldi
| zin1 | Linux (Ubuntu 12.04.4 LTS) / x86_64 | OK | OK | |||||
moscato1 | Windows Server 2008 R2 Enterprise SP1 (64-bit) / x64 | OK | OK | OK | |||||
perceval | Mac OS X Snow Leopard (10.6.8) / x86_64 | OK | OK | [ OK ] |
Package: flowFitExampleData |
Version: 0.99.2 |
Command: rm -rf flowFitExampleData.buildbin-libdir && mkdir flowFitExampleData.buildbin-libdir && /Users/biocbuild/BBS/utils/build-universal.sh flowFitExampleData_0.99.2.tar.gz /Library/Frameworks/R.framework/Versions/Current/Resources/bin/R flowFitExampleData.buildbin-libdir |
StartedAt: 2014-04-04 12:13:55 -0700 (Fri, 04 Apr 2014) |
EndedAt: 2014-04-04 12:15:30 -0700 (Fri, 04 Apr 2014) |
EllapsedTime: 95.5 seconds |
RetCode: 0 |
Status: OK |
PackageFile: flowFitExampleData_0.99.2.tgz |
PackageFileSize: 3.309 MiB |
>>>>>>> >>>>>>> INSTALLATION WITH 'R CMD INSTALL --preclean --no-multiarch --library=flowFitExampleData.buildbin-libdir flowFitExampleData_0.99.2.tar.gz' >>>>>>> * installing *source* package ‘flowFitExampleData’ ... ** data ** inst ** help *** installing help indices ** building package indices ** installing vignettes ** testing if installed package can be loaded Warning in rgl.init(initValue, onlyNULL) : RGL: GLX extension missing on server Warning in fun(libname, pkgname) : error in rgl_init * DONE (flowFitExampleData)