Back to the "Multiple platform build/check report" |
This page was generated on 2014-04-04 17:29:15 -0700 (Fri, 04 Apr 2014).
Package 18/181 | Hostname | OS / Arch | BUILD | CHECK | BUILD BIN | ||||
breastCancerVDX 1.0.6 Markus Schroeder
| zin1 | Linux (Ubuntu 12.04.4 LTS) / x86_64 | OK | WARNINGS | |||||
moscato1 | Windows Server 2008 R2 Enterprise SP1 (64-bit) / x64 | OK | WARNINGS | OK | |||||
perceval | Mac OS X Snow Leopard (10.6.8) / x86_64 | OK | WARNINGS | [ OK ] |
Package: breastCancerVDX |
Version: 1.0.6 |
Command: rm -rf breastCancerVDX.buildbin-libdir && mkdir breastCancerVDX.buildbin-libdir && /Users/biocbuild/BBS/utils/build-universal.sh breastCancerVDX_1.0.6.tar.gz /Library/Frameworks/R.framework/Versions/Current/Resources/bin/R breastCancerVDX.buildbin-libdir |
StartedAt: 2014-04-04 12:01:04 -0700 (Fri, 04 Apr 2014) |
EndedAt: 2014-04-04 12:01:48 -0700 (Fri, 04 Apr 2014) |
EllapsedTime: 44.3 seconds |
RetCode: 0 |
Status: OK |
PackageFile: breastCancerVDX_1.0.6.tgz |
PackageFileSize: 39.54 MiB |
>>>>>>> >>>>>>> INSTALLATION WITH 'R CMD INSTALL --preclean --no-multiarch --library=breastCancerVDX.buildbin-libdir breastCancerVDX_1.0.6.tar.gz' >>>>>>> * installing *source* package ‘breastCancerVDX’ ... ** data ** help *** installing help indices ** building package indices ** testing if installed package can be loaded * DONE (breastCancerVDX)