adding: data/ (256 bytes security) (stored 0%)
adding: data/datalist (188 bytes security) (deflated 17%)
adding: data/miscellaneous.RData (188 bytes security) (deflated 1%)
adding: data/rtni1st.RData (188 bytes security) (deflated 0%)
adding: data/rtni2nd.RData (188 bytes security) (deflated 0%)
adding: data/rtniIDs.RData (188 bytes security) (deflated 0%)
adding: data/rtniNormals.RData (188 bytes security) (deflated 0%)
adding: data/rtniTALL.RData (188 bytes security) (deflated 0%)
adding: data/siRNA.RData (188 bytes security) (deflated 1%)
adding: DESCRIPTION (188 bytes security) (deflated 36%)
adding: doc/ (256 bytes security) (stored 0%)
adding: doc/Fletcher2013b.pdf (188 bytes security) (deflated 5%)
adding: doc/Fletcher2013b.R (188 bytes security) (deflated 80%)
adding: doc/Fletcher2013b.Rnw (188 bytes security) (deflated 69%)
adding: doc/index.html (188 bytes security) (deflated 59%)
adding: help/ (256 bytes security) (stored 0%)
adding: help/aliases.rds (188 bytes security) (stored 0%)
adding: help/AnIndex (188 bytes security) (deflated 79%)
adding: help/Fletcher2013b.rdb (188 bytes security) (deflated 1%)
adding: help/Fletcher2013b.rdx (188 bytes security) (stored 0%)
adding: help/paths.rds (188 bytes security) (stored 0%)
adding: html/ (256 bytes security) (stored 0%)
adding: html/00Index.html (188 bytes security) (deflated 85%)
adding: html/R.css (188 bytes security) (deflated 70%)
adding: INDEX (188 bytes security) (deflated 65%)
adding: MD5 (188 bytes security) (deflated 45%)
adding: Meta/ (256 bytes security) (stored 0%)
adding: Meta/data.rds (188 bytes security) (stored 0%)
adding: Meta/hsearch.rds (188 bytes security) (stored 0%)
adding: Meta/links.rds (188 bytes security) (stored 0%)
adding: Meta/nsInfo.rds (188 bytes security) (stored 0%)
adding: Meta/package.rds (188 bytes security) (stored 0%)
adding: Meta/Rd.rds (188 bytes security) (stored 0%)
adding: Meta/vignette.rds (188 bytes security) (stored 0%)
adding: NAMESPACE (188 bytes security) (deflated 65%)
adding: R/ (256 bytes security) (stored 0%)
adding: R/Fletcher2013b (188 bytes security) (deflated 41%)
adding: R/Fletcher2013b.rdb (188 bytes security) (deflated 1%)
adding: R/Fletcher2013b.rdx (188 bytes security) (stored 0%)