Back to the "Multiple platform build/check report" | A B C D E F [G] H I J K L M N O P Q R S T U V W X Y Z |
This page was generated on 2014-04-05 09:48:21 -0700 (Sat, 05 Apr 2014).
Package 314/750 | Hostname | OS / Arch | BUILD | CHECK | BUILD BIN | ||||
gmapR 1.4.5 Michael Lawrence
| zin1 | Linux (Ubuntu 12.04.4 LTS) / x86_64 | [ OK ] | ERROR | |||||
moscato1 | Windows Server 2008 R2 Enterprise SP1 (64-bit) / x64 | N O T S U P P O R T E D | |||||||
perceval | Mac OS X Snow Leopard (10.6.8) / x86_64 | N O T S U P P O R T E D |
Package: gmapR |
Version: 1.4.5 |
Command: /home/biocbuild/bbs-2.13-bioc/R/bin/R CMD build --keep-empty-dirs --no-resave-data gmapR |
StartedAt: 2014-04-04 22:22:04 -0700 (Fri, 04 Apr 2014) |
EndedAt: 2014-04-04 22:25:36 -0700 (Fri, 04 Apr 2014) |
EllapsedTime: 212.4 seconds |
RetCode: 0 |
Status: OK |
PackageFile: gmapR_1.4.5.tar.gz |
PackageFileSize: 4.303 MiB |
* checking for file ‘gmapR/DESCRIPTION’ ... OK * preparing ‘gmapR’: * checking DESCRIPTION meta-information ... OK * cleaning src * installing the package to build vignettes * creating vignettes ... OK * cleaning src * checking for LF line-endings in source and make files * checking for empty or unneeded directories WARNING: directory ‘gmapR/inst/GmapGenomePackage-template/inst/extdata’ is empty * building ‘gmapR_1.4.5.tar.gz’